BEGIN:VCALENDAR
VERSION:2.0
PRODID:-//Bad Dog Mama - ECPv6.15.20//NONSGML v1.0//EN
CALSCALE:GREGORIAN
METHOD:PUBLISH
X-WR-CALNAME:Bad Dog Mama
X-ORIGINAL-URL:https://baddogmama.com
X-WR-CALDESC:Events for Bad Dog Mama
REFRESH-INTERVAL;VALUE=DURATION:PT1H
X-Robots-Tag:noindex
X-PUBLISHED-TTL:PT1H
BEGIN:VTIMEZONE
TZID:America/New_York
BEGIN:DAYLIGHT
TZOFFSETFROM:-0500
TZOFFSETTO:-0400
TZNAME:EDT
DTSTART:20240310T070000
END:DAYLIGHT
BEGIN:STANDARD
TZOFFSETFROM:-0400
TZOFFSETTO:-0500
TZNAME:EST
DTSTART:20241103T060000
END:STANDARD
BEGIN:DAYLIGHT
TZOFFSETFROM:-0500
TZOFFSETTO:-0400
TZNAME:EDT
DTSTART:20250309T070000
END:DAYLIGHT
BEGIN:STANDARD
TZOFFSETFROM:-0400
TZOFFSETTO:-0500
TZNAME:EST
DTSTART:20251102T060000
END:STANDARD
BEGIN:DAYLIGHT
TZOFFSETFROM:-0500
TZOFFSETTO:-0400
TZNAME:EDT
DTSTART:20260308T070000
END:DAYLIGHT
BEGIN:STANDARD
TZOFFSETFROM:-0400
TZOFFSETTO:-0500
TZNAME:EST
DTSTART:20261101T060000
END:STANDARD
END:VTIMEZONE
BEGIN:VEVENT
DTSTART;TZID=America/New_York:20250427T140000
DTEND;TZID=America/New_York:20250427T160000
DTSTAMP:20260422T132649
CREATED:20250327T133651Z
LAST-MODIFIED:20250327T134119Z
UID:4856-1745762400-1745769600@baddogmama.com
SUMMARY:Taste of Saint Augustine
DESCRIPTION:Taste of St. Augustine takes place from 11:00 a.m. to 4:00 p.m. on Sunday\, April 27\, 2025\, at the St. Augustine Amphitheatre. This annual outdoor food festival presents “tastes” from participating St. Augustine restaurants and is presented by EPIC Behavioral Health Care. The day’s proceeds go to this community-based non-profit organization. \nMore than 20 of St. Augustine’s favorite restaurants and food trucks participate each year\, offering tastes of some of their most popular dishes. Food lovers purchase tickets for $1.00 each and pay one to five tickets for each taste. The organizers provide a map listing the eateries and what they offer\, so it’s easy to find your favorite restaurant or cuisine and work out from there. \nTaste of St. Augustine has become one of the city’s premier annual events. Visitors can sample delicious foods from local restaurants and food trucks\, and vote for the coveted “People’s Choice” award. A panel of food service professionals and dignitaries taste every offering and choose winners in five categories: Best Family\, Best Ethnic\, Best Upscale\, Best Dessert\, and Best Beverage. \nThere are plenty of fun arts and crafts activities for children\, and local bands perform on the Front Porch stage. EPIC also hosts the Race to the Taste 5K\, which takes place in the morning on the same day. Race registrants receive a free ticket to Taste of St. Augustine. \nAdmission: $5.00 per person and taste tickets are $1.00 each with restaurants charging between one and five tickets per taste. Entry is free to those who participate in Race to the Taste. Free parking is available at the Amphitheatre. \nWhen: Sunday\, April 27\, from 11:00 a.m. to 4:00 p.m. \nWhere: The St. Augustine Amphitheatre is located at 1340C A1A S. in St. Augustine\, Florida 32084. \nParking: This is a popular and fun event\, and there will be a free shuttle from R.B. Hunt Elementary to the Amphitheatre. \nAll proceeds from A Taste of St. Augustine benefit EPIC Behavioral Healthcare which was established in 1973 as a community-based non-profit organization. Licensed by the Florida Department of Children and Families\, EPIC was created to provide substance abuse prevention\, intervention\, outpatient treatment\, and aftercare services.
URL:https://baddogmama.com/event/taste-of-saint-augustine/
LOCATION:The Amp\, 1340 A1a S\, Saint Augustine\, FLorida\, 32080
END:VEVENT
BEGIN:VEVENT
DTSTART;TZID=America/New_York:20250427T180000
DTEND;TZID=America/New_York:20250427T200000
DTSTAMP:20260422T132649
CREATED:20250327T133429Z
LAST-MODIFIED:20250327T184741Z
UID:4853-1745776800-1745784000@baddogmama.com
SUMMARY:Sabrage Boat Tours
DESCRIPTION:🎵 Meet Bad Dog Mama: St. Augustine’s Dynamic Duo! 🎶 \nAsk anyone in the local music scene\, and they’ll tell you the same thing: Bad Dog Mama always brings the house down. This powerhouse female duo\, featuring Chelsea Saddler on guitar and Lauren Gilliam on bass\, masterfully blends harmonies\, percussive rhythms\, and an electrifying song selection. \nFrom their soulful original music to covers of iconic artists like The Talking Heads\, Prince\, Nancy Sinatra\, Amy Winehouse\, and more\, Bad Dog Mama has something for everyone. With every performance\, they pull the crowd into their world of sound and leave them wanting more. \nCatch them live and experience the magic for yourself! \nSunday\, April 27th \n6 pm – 8 pm \n$60 per ticket (does not include tax)
URL:https://baddogmama.com/event/sabrage-boat-tours/
LOCATION:Sabrage Boat Tours\, 117 Dockside Drive\, Saint Augustine\, FL\, 32086
END:VEVENT
END:VCALENDAR