BEGIN:VCALENDAR
VERSION:2.0
PRODID:-//Bad Dog Mama - ECPv6.15.20//NONSGML v1.0//EN
CALSCALE:GREGORIAN
METHOD:PUBLISH
X-ORIGINAL-URL:https://baddogmama.com
X-WR-CALDESC:Events for Bad Dog Mama
REFRESH-INTERVAL;VALUE=DURATION:PT1H
X-Robots-Tag:noindex
X-PUBLISHED-TTL:PT1H
BEGIN:VTIMEZONE
TZID:America/New_York
BEGIN:DAYLIGHT
TZOFFSETFROM:-0500
TZOFFSETTO:-0400
TZNAME:EDT
DTSTART:20240310T070000
END:DAYLIGHT
BEGIN:STANDARD
TZOFFSETFROM:-0400
TZOFFSETTO:-0500
TZNAME:EST
DTSTART:20241103T060000
END:STANDARD
BEGIN:DAYLIGHT
TZOFFSETFROM:-0500
TZOFFSETTO:-0400
TZNAME:EDT
DTSTART:20250309T070000
END:DAYLIGHT
BEGIN:STANDARD
TZOFFSETFROM:-0400
TZOFFSETTO:-0500
TZNAME:EST
DTSTART:20251102T060000
END:STANDARD
BEGIN:DAYLIGHT
TZOFFSETFROM:-0500
TZOFFSETTO:-0400
TZNAME:EDT
DTSTART:20260308T070000
END:DAYLIGHT
BEGIN:STANDARD
TZOFFSETFROM:-0400
TZOFFSETTO:-0500
TZNAME:EST
DTSTART:20261101T060000
END:STANDARD
END:VTIMEZONE
BEGIN:VEVENT
DTSTART;TZID=America/New_York:20251109T140000
DTEND;TZID=America/New_York:20251109T170000
DTSTAMP:20260422T023524
CREATED:20251102T145701Z
LAST-MODIFIED:20251108T123945Z
UID:5331-1762696800-1762707600@baddogmama.com
SUMMARY:JB Birney Family Picnic (Private Event)
DESCRIPTION:
URL:https://baddogmama.com/event/jb-birney-family-picnic-2/
LOCATION:Herschel King Park\, 1000 Grady Prather Jr Cv\, Palm Coast\, FL\, 32137
END:VEVENT
END:VCALENDAR