BEGIN:VCALENDAR
VERSION:2.0
PRODID:-//Bad Dog Mama - ECPv6.15.20//NONSGML v1.0//EN
CALSCALE:GREGORIAN
METHOD:PUBLISH
X-WR-CALNAME:Bad Dog Mama
X-ORIGINAL-URL:https://baddogmama.com
X-WR-CALDESC:Events for Bad Dog Mama
REFRESH-INTERVAL;VALUE=DURATION:PT1H
X-Robots-Tag:noindex
X-PUBLISHED-TTL:PT1H
BEGIN:VTIMEZONE
TZID:UTC
BEGIN:STANDARD
TZOFFSETFROM:+0000
TZOFFSETTO:+0000
TZNAME:UTC
DTSTART:20230101T000000
END:STANDARD
END:VTIMEZONE
BEGIN:VEVENT
DTSTART;TZID=UTC:20240511T190000
DTEND;TZID=UTC:20240511T220000
DTSTAMP:20260423T081352
CREATED:20240508T125803Z
LAST-MODIFIED:20240508T125803Z
UID:4541-1715454000-1715464800@baddogmama.com
SUMMARY:Casa de Vino
DESCRIPTION:
URL:https://baddogmama.com/event/casa-de-vino-2/
LOCATION:Casa de Vino 57\, 57 Treasury St\, Saint Augustine\, 32084\, United States
ATTACH;FMTTYPE=image/jpeg:https://baddogmama.com/wp-content/uploads/2023/05/SittingInstruemtns-1.jpg
END:VEVENT
BEGIN:VEVENT
DTSTART;TZID=UTC:20240427T130000
DTEND;TZID=UTC:20240427T140000
DTSTAMP:20260423T081352
CREATED:20240401T160420Z
LAST-MODIFIED:20240401T160420Z
UID:4433-1714222800-1714226400@baddogmama.com
SUMMARY:Cabbage\, Potato\, & Bacon Festival
DESCRIPTION:
URL:https://baddogmama.com/event/cabbage-potato-bacon-festival/
LOCATION:Hastings Main Street\, Main Street\, Hastings\, FL
END:VEVENT
BEGIN:VEVENT
DTSTART;TZID=UTC:20240425T180000
DTEND;TZID=UTC:20240425T210000
DTSTAMP:20260423T081352
CREATED:20240401T160234Z
LAST-MODIFIED:20240401T160234Z
UID:4430-1714068000-1714078800@baddogmama.com
SUMMARY:Golfers Gone Wild
DESCRIPTION:
URL:https://baddogmama.com/event/golfers-gone-wild/
LOCATION:Hammock Beach Golf Resort & Spa\, 200 Ocean Crest Dr\, Palm Coast\, FL\, 32137
ATTACH;FMTTYPE=image/jpeg:https://baddogmama.com/wp-content/uploads/2023/05/3C768FFF-66BE-4292-ABAC-34D9018C2EB6.jpeg
END:VEVENT
BEGIN:VEVENT
DTSTART;TZID=UTC:20240423T183000
DTEND;TZID=UTC:20240423T210000
DTSTAMP:20260423T081352
CREATED:20240401T155947Z
LAST-MODIFIED:20240418T234306Z
UID:4428-1713897000-1713906000@baddogmama.com
SUMMARY:Bart Art Gallery
DESCRIPTION:TICKETED & CATERED. Special guest opener Shannon Davis. \nCall Bart Art Gallery for tickets: 904.217.4818
URL:https://baddogmama.com/event/bart-art-gallery/
LOCATION:FL
ATTACH;FMTTYPE=image/jpeg:https://baddogmama.com/wp-content/uploads/2023/05/SittingInstruemtns-1.jpg
END:VEVENT
BEGIN:VEVENT
DTSTART;TZID=UTC:20240421T130000
DTEND;TZID=UTC:20240421T160000
DTSTAMP:20260423T081352
CREATED:20240401T155725Z
LAST-MODIFIED:20240401T155725Z
UID:4426-1713704400-1713715200@baddogmama.com
SUMMARY:DJ's Clam Shack
DESCRIPTION:
URL:https://baddogmama.com/event/djs-clam-shack/
LOCATION:DJ’s Clam Shack\, 21 Hypolita St\, St Augustine\, Florida\, 32084
ATTACH;FMTTYPE=image/jpeg:https://baddogmama.com/wp-content/uploads/2023/05/IMG_5587.jpg
END:VEVENT
BEGIN:VEVENT
DTSTART;TZID=UTC:20240420T170000
DTEND;TZID=UTC:20240420T200000
DTSTAMP:20260423T081352
CREATED:20240401T155634Z
LAST-MODIFIED:20240401T155634Z
UID:4423-1713632400-1713643200@baddogmama.com
SUMMARY:Cheba Hut 4/20 Event
DESCRIPTION:
URL:https://baddogmama.com/event/cheba-hut-4-20-event/
LOCATION:Cheba Hut\, 604 Anastasia Blvd\, Saint Augustine\, FL\, 32080
ATTACH;FMTTYPE=image/jpeg:https://baddogmama.com/wp-content/uploads/2023/05/3C768FFF-66BE-4292-ABAC-34D9018C2EB6.jpeg
END:VEVENT
BEGIN:VEVENT
DTSTART;TZID=UTC:20240420T140000
DTEND;TZID=UTC:20240420T150000
DTSTAMP:20260423T081352
CREATED:20240401T155445Z
LAST-MODIFIED:20240401T155445Z
UID:4420-1713621600-1713625200@baddogmama.com
SUMMARY:Lullaby of the Rivers Festival
DESCRIPTION:
URL:https://baddogmama.com/event/lullaby-of-the-rivers-festival/
LOCATION:North Shores Community Center\, 120 Meadow Ave\, Saint Augustine\, FL\, 32084
ATTACH;FMTTYPE=image/jpeg:https://baddogmama.com/wp-content/uploads/2023/05/BDM7sq.jpg
END:VEVENT
BEGIN:VEVENT
DTSTART;TZID=UTC:20240419T210000
DTEND;TZID=UTC:20240419T235900
DTSTAMP:20260423T081352
CREATED:20240401T155221Z
LAST-MODIFIED:20240401T155221Z
UID:4418-1713560400-1713571140@baddogmama.com
SUMMARY:Barley Republic
DESCRIPTION:
URL:https://baddogmama.com/event/barley-republic-10/
LOCATION:Barley Republic\, 48 Spanish St\, Saint Augustine\, FL\, 32084\, United States
ATTACH;FMTTYPE=image/jpeg:https://baddogmama.com/wp-content/uploads/2023/05/barley-colonial-1.jpg
END:VEVENT
BEGIN:VEVENT
DTSTART;TZID=UTC:20240414T150000
DTEND;TZID=UTC:20240414T160000
DTSTAMP:20260423T081352
CREATED:20240401T155126Z
LAST-MODIFIED:20240412T202043Z
UID:4415-1713106800-1713110400@baddogmama.com
SUMMARY:Gamble Rogers Folk Festival
DESCRIPTION:Chelsea Saddler plays her original tunes with Lauren Gilliam for the Gamble Rogers Folk Festival! \nTICKETED EVENT: Gamble Rogers Music Festival (gamblerogersfest.org)
URL:https://baddogmama.com/event/gamble-rogers-folk-festival/
LOCATION:St. John’s County Fairgrounds\, 5840 S Rue 207\, Elkton\, FL\, 32033
ATTACH;FMTTYPE=image/jpeg:https://baddogmama.com/wp-content/uploads/2023/05/BDM5sq.jpg
END:VEVENT
BEGIN:VEVENT
DTSTART;TZID=UTC:20240413T200000
DTEND;TZID=UTC:20240413T220000
DTSTAMP:20260423T081352
CREATED:20240401T154825Z
LAST-MODIFIED:20240401T154825Z
UID:4412-1713038400-1713045600@baddogmama.com
SUMMARY:Saint Augustine Race Week
DESCRIPTION:
URL:https://baddogmama.com/event/saint-augustine-race-week/
LOCATION:Municipal Marina\, 111 Avenida Menendez\, Saint Augustine\, FL\, 32084
ATTACH;FMTTYPE=image/jpeg:https://baddogmama.com/wp-content/uploads/2023/05/3C768FFF-66BE-4292-ABAC-34D9018C2EB6.jpeg
END:VEVENT
BEGIN:VEVENT
DTSTART;TZID=UTC:20240412T190000
DTEND;TZID=UTC:20240412T194500
DTSTAMP:20260423T081352
CREATED:20240401T154549Z
LAST-MODIFIED:20240412T201950Z
UID:4410-1712948400-1712951100@baddogmama.com
SUMMARY:Flager Fest at The Amp
DESCRIPTION:
URL:https://baddogmama.com/event/flager-fest-at-the-amp/
LOCATION:The Amp\, 1340 A1a S\, Saint Augustine\, FLorida\, 32080
ATTACH;FMTTYPE=image/jpeg:https://baddogmama.com/wp-content/uploads/2023/05/polaroid-2.jpg
END:VEVENT
BEGIN:VEVENT
DTSTART;TZID=UTC:20240407T200000
DTEND;TZID=UTC:20240407T220000
DTSTAMP:20260423T081352
CREATED:20240401T154403Z
LAST-MODIFIED:20240401T154403Z
UID:4408-1712520000-1712527200@baddogmama.com
SUMMARY:Chelsea Saddler At Sarbez COMEDY SHOW!
DESCRIPTION:Join us at Sarbez for an intimate showcase of regional stand-up comedians. The all-star line-up for the evening includes Crystal Steele\, Rosalie Cocci\, Chelsea Saddler\, Cousin Andy\, and headliner TK Turner. Presented by Lifesaver Comedy and hosted by Jen O. \nTICKETED SHOW. BUY TICKETS: Sarbez Stand-Up Comedy Showcase – Chelsea Saddler
URL:https://baddogmama.com/event/chelsea-saddler-at-sarbez-comedy-show/
LOCATION:Sarbez!\, 115 Anastasia Blvd\, Saint Augustine\, FL\, 32080\, United States
ATTACH;FMTTYPE=image/jpeg:https://baddogmama.com/wp-content/uploads/2023/05/BDM6sq.jpg
END:VEVENT
BEGIN:VEVENT
DTSTART;TZID=UTC:20240407T140000
DTEND;TZID=UTC:20240407T170000
DTSTAMP:20260423T081352
CREATED:20240401T154136Z
LAST-MODIFIED:20240401T154136Z
UID:4406-1712498400-1712509200@baddogmama.com
SUMMARY:Old Coast Ales
DESCRIPTION:
URL:https://baddogmama.com/event/old-coast-ales-8/
LOCATION:Old Coast Ales\, 300 Anastasia Blvd\, Saint Augustine\, FL\, 32080\, United States
ATTACH;FMTTYPE=image/jpeg:https://baddogmama.com/wp-content/uploads/2023/05/bdm-high-five.jpg
END:VEVENT
BEGIN:VEVENT
DTSTART;TZID=UTC:20240405T190000
DTEND;TZID=UTC:20240405T220000
DTSTAMP:20260423T081352
CREATED:20240401T154054Z
LAST-MODIFIED:20240401T154054Z
UID:4404-1712343600-1712354400@baddogmama.com
SUMMARY:Casa de Vino 57
DESCRIPTION:
URL:https://baddogmama.com/event/casa-de-vino-57-12/
LOCATION:Casa de Vino 57\, 57 Treasury St\, Saint Augustine\, 32084\, United States
END:VEVENT
BEGIN:VEVENT
DTSTART;TZID=UTC:20240331T150000
DTEND;TZID=UTC:20240331T180000
DTSTAMP:20260423T081352
CREATED:20240311T190103Z
LAST-MODIFIED:20240325T114738Z
UID:4371-1711897200-1711908000@baddogmama.com
SUMMARY:Colonial Oak Music Park
DESCRIPTION:
URL:https://baddogmama.com/event/colonial-oak-music-park-5/
LOCATION:Colonial Oak Music Park\, 33 St. George St.\, Saint Augustine\, FL\, 32084\, United States
ATTACH;FMTTYPE=image/jpeg:https://baddogmama.com/wp-content/uploads/2023/05/E5CD5493-F48B-4395-A408-F5185E422738.jpeg
END:VEVENT
BEGIN:VEVENT
DTSTART;TZID=UTC:20240330T130000
DTEND;TZID=UTC:20240330T150000
DTSTAMP:20260423T081352
CREATED:20240328T131625Z
LAST-MODIFIED:20240328T131625Z
UID:4397-1711803600-1711810800@baddogmama.com
SUMMARY:Oasis Camelfest
DESCRIPTION:
URL:https://baddogmama.com/event/oasis-camelfest/
LOCATION:Oasis\, 4000 A1a S\, Saint Augustine\, FL\, 32080\, United States
ATTACH;FMTTYPE=image/jpeg:https://baddogmama.com/wp-content/uploads/2023/05/BDM5sq.jpg
END:VEVENT
BEGIN:VEVENT
DTSTART;TZID=UTC:20240329T190000
DTEND;TZID=UTC:20240329T220000
DTSTAMP:20260423T081352
CREATED:20240311T185812Z
LAST-MODIFIED:20240311T185812Z
UID:4366-1711738800-1711749600@baddogmama.com
SUMMARY:Casa Maya
DESCRIPTION:
URL:https://baddogmama.com/event/casa-maya-2/
LOCATION:Casa Maya\, 22 Hypolita St.\, Saint Augustine\, FL\, 32084\, United States
ATTACH;FMTTYPE=image/jpeg:https://baddogmama.com/wp-content/uploads/2023/05/IMG_5587.jpg
END:VEVENT
BEGIN:VEVENT
DTSTART;TZID=UTC:20240326T184500
DTEND;TZID=UTC:20240326T200000
DTSTAMP:20260423T081352
CREATED:20240326T154155Z
LAST-MODIFIED:20240326T154241Z
UID:4375-1711478700-1711483200@baddogmama.com
SUMMARY:The Amp Night Market
DESCRIPTION:
URL:https://baddogmama.com/event/the-amp-night-market-3/
LOCATION:The Amp Night Market\, 1340C A1A S\, Saint Augustine\, FL\, 32080\, United States
ATTACH;FMTTYPE=image/jpeg:https://baddogmama.com/wp-content/uploads/2024/03/nightmarket_spring_eventimage-a6b1211a0a.jpg
END:VEVENT
BEGIN:VEVENT
DTSTART;TZID=UTC:20240323T200000
DTEND;TZID=UTC:20240323T210000
DTSTAMP:20260423T081352
CREATED:20240311T185503Z
LAST-MODIFIED:20240311T185503Z
UID:4359-1711224000-1711227600@baddogmama.com
SUMMARY:Muggsy's w/ Eureka Springs & Kevin PM
DESCRIPTION:
URL:https://baddogmama.com/event/muggsys-w-eureka-springs-kevin-pm/
LOCATION:Muggsy’s\, 213 W King St\, St. Augustine\, Florida\, 32084
ATTACH;FMTTYPE=image/jpeg:https://baddogmama.com/wp-content/uploads/2023/05/SittingInstruemtns-1.jpg
END:VEVENT
BEGIN:VEVENT
DTSTART;TZID=UTC:20240322T190000
DTEND;TZID=UTC:20240322T220000
DTSTAMP:20260423T081352
CREATED:20240311T185553Z
LAST-MODIFIED:20240311T185553Z
UID:4361-1711134000-1711144800@baddogmama.com
SUMMARY:Casa de Vino 57
DESCRIPTION:
URL:https://baddogmama.com/event/casa-de-vino-57-11/
LOCATION:Casa de Vino 57\, 57 Treasury St\, Saint Augustine\, 32084\, United States
ATTACH;FMTTYPE=image/jpeg:https://baddogmama.com/wp-content/uploads/2023/05/BDM5sq.jpg
END:VEVENT
BEGIN:VEVENT
DTSTART;TZID=UTC:20240319T193000
DTEND;TZID=UTC:20240319T203000
DTSTAMP:20260423T081352
CREATED:20240311T185327Z
LAST-MODIFIED:20240311T185327Z
UID:4357-1710876600-1710880200@baddogmama.com
SUMMARY:Sarbez: Benefit Show for April
DESCRIPTION:
URL:https://baddogmama.com/event/sarbez-benefit-show-for-april/
LOCATION:Sarbez!\, 115 Anastasia Blvd\, Saint Augustine\, FL\, 32080\, United States
ATTACH;FMTTYPE=image/jpeg:https://baddogmama.com/wp-content/uploads/2023/05/IMG_5587.jpg
END:VEVENT
BEGIN:VEVENT
DTSTART;TZID=UTC:20240318T200000
DTEND;TZID=UTC:20240318T210000
DTSTAMP:20260423T081352
CREATED:20240311T185219Z
LAST-MODIFIED:20240311T185219Z
UID:4354-1710792000-1710795600@baddogmama.com
SUMMARY:Muggsy's 1st Anniversary
DESCRIPTION:
URL:https://baddogmama.com/event/muggsys-1st-anniversary/
LOCATION:Muggsy’s\, 213 W King St\, St. Augustine\, Florida\, 32084
ATTACH;FMTTYPE=image/jpeg:https://baddogmama.com/wp-content/uploads/2023/05/polaroid-1.jpg
END:VEVENT
BEGIN:VEVENT
DTSTART;TZID=UTC:20240315T210000
DTEND;TZID=UTC:20240315T235900
DTSTAMP:20260423T081352
CREATED:20240223T201805Z
LAST-MODIFIED:20240223T201805Z
UID:4345-1710536400-1710547140@baddogmama.com
SUMMARY:Barley Republic
DESCRIPTION:
URL:https://baddogmama.com/event/barley-republic-9/
LOCATION:Barley Republic\, 48 Spanish St\, Saint Augustine\, FL\, 32084\, United States
END:VEVENT
BEGIN:VEVENT
DTSTART;TZID=UTC:20240311T184500
DTEND;TZID=UTC:20240311T201500
DTSTAMP:20260423T081352
CREATED:20240311T185728Z
LAST-MODIFIED:20240325T114719Z
UID:4363-1710182700-1710188100@baddogmama.com
SUMMARY:The Amp Night Market
DESCRIPTION:
URL:https://baddogmama.com/event/the-amp-night-market-2/
LOCATION:The Amp\, 1340 A1a S\, Saint Augustine\, FLorida\, 32080
ATTACH;FMTTYPE=image/jpeg:https://baddogmama.com/wp-content/uploads/2023/05/polaroid-2.jpg
END:VEVENT
BEGIN:VEVENT
DTSTART;TZID=UTC:20240310T140000
DTEND;TZID=UTC:20240310T170000
DTSTAMP:20260423T081352
CREATED:20240223T201346Z
LAST-MODIFIED:20240223T201642Z
UID:4342-1710079200-1710090000@baddogmama.com
SUMMARY:Old Coast Ales
DESCRIPTION:
URL:https://baddogmama.com/event/old-coast-ales-7/
LOCATION:Old Coast Ales\, 300 Anastasia Blvd\, Saint Augustine\, FL\, 32080\, United States
END:VEVENT
BEGIN:VEVENT
DTSTART;TZID=UTC:20240309T200000
DTEND;TZID=UTC:20240309T230000
DTSTAMP:20260423T081352
CREATED:20240223T201236Z
LAST-MODIFIED:20240223T201236Z
UID:4340-1710014400-1710025200@baddogmama.com
SUMMARY:Dog Rose Brewing
DESCRIPTION:
URL:https://baddogmama.com/event/dog-rose-brewing/
LOCATION:Dogrose Brewing\, 77 Bridge St.\, Saint Augustine\, FL\, 32084\, United States
END:VEVENT
BEGIN:VEVENT
DTSTART;TZID=UTC:20240308T190000
DTEND;TZID=UTC:20240308T220000
DTSTAMP:20260423T081352
CREATED:20240223T201102Z
LAST-MODIFIED:20240223T201102Z
UID:4338-1709924400-1709935200@baddogmama.com
SUMMARY:Colonial Oak Music Park
DESCRIPTION:
URL:https://baddogmama.com/event/colonial-oak-music-park-4/
LOCATION:Colonial Oak Music Park\, 33 St. George St.\, Saint Augustine\, FL\, 32084\, United States
END:VEVENT
BEGIN:VEVENT
DTSTART;VALUE=DATE:20240302
DTEND;VALUE=DATE:20240303
DTSTAMP:20260423T081352
CREATED:20240223T200842Z
LAST-MODIFIED:20240223T200842Z
UID:4336-1709337600-1709423999@baddogmama.com
SUMMARY:Private event
DESCRIPTION:
URL:https://baddogmama.com/event/private-event-9/
LOCATION:FL
END:VEVENT
BEGIN:VEVENT
DTSTART;TZID=UTC:20240216T210000
DTEND;TZID=UTC:20240216T235900
DTSTAMP:20260423T081352
CREATED:20240126T121428Z
LAST-MODIFIED:20240126T121428Z
UID:4321-1708117200-1708127940@baddogmama.com
SUMMARY:Barley Republic
DESCRIPTION:
URL:https://baddogmama.com/event/barley-republic-8/
LOCATION:Barley Republic\, 48 Spanish St\, Saint Augustine\, FL\, 32084\, United States
ATTACH;FMTTYPE=image/jpeg:https://baddogmama.com/wp-content/uploads/2023/05/BDM5sq.jpg
END:VEVENT
BEGIN:VEVENT
DTSTART;TZID=UTC:20240213T180000
DTEND;TZID=UTC:20240213T210000
DTSTAMP:20260423T081352
CREATED:20240205T130549Z
LAST-MODIFIED:20240205T130549Z
UID:4327-1707847200-1707858000@baddogmama.com
SUMMARY:Sarbez! Townie Tuesday
DESCRIPTION:
URL:https://baddogmama.com/event/sarbez-townie-tuesday/
LOCATION:Sarbez!\, 115 Anastasia Blvd\, Saint Augustine\, FL\, 32080\, United States
END:VEVENT
END:VCALENDAR