BEGIN:VCALENDAR
VERSION:2.0
PRODID:-//Bad Dog Mama - ECPv6.15.20//NONSGML v1.0//EN
CALSCALE:GREGORIAN
METHOD:PUBLISH
X-WR-CALNAME:Bad Dog Mama
X-ORIGINAL-URL:https://baddogmama.com
X-WR-CALDESC:Events for Bad Dog Mama
REFRESH-INTERVAL;VALUE=DURATION:PT1H
X-Robots-Tag:noindex
X-PUBLISHED-TTL:PT1H
BEGIN:VTIMEZONE
TZID:America/New_York
BEGIN:DAYLIGHT
TZOFFSETFROM:-0500
TZOFFSETTO:-0400
TZNAME:EDT
DTSTART:20230312T070000
END:DAYLIGHT
BEGIN:STANDARD
TZOFFSETFROM:-0400
TZOFFSETTO:-0500
TZNAME:EST
DTSTART:20231105T060000
END:STANDARD
BEGIN:DAYLIGHT
TZOFFSETFROM:-0500
TZOFFSETTO:-0400
TZNAME:EDT
DTSTART:20240310T070000
END:DAYLIGHT
BEGIN:STANDARD
TZOFFSETFROM:-0400
TZOFFSETTO:-0500
TZNAME:EST
DTSTART:20241103T060000
END:STANDARD
BEGIN:DAYLIGHT
TZOFFSETFROM:-0500
TZOFFSETTO:-0400
TZNAME:EDT
DTSTART:20250309T070000
END:DAYLIGHT
BEGIN:STANDARD
TZOFFSETFROM:-0400
TZOFFSETTO:-0500
TZNAME:EST
DTSTART:20251102T060000
END:STANDARD
END:VTIMEZONE
BEGIN:VTIMEZONE
TZID:UTC
BEGIN:STANDARD
TZOFFSETFROM:+0000
TZOFFSETTO:+0000
TZNAME:UTC
DTSTART:20230101T000000
END:STANDARD
END:VTIMEZONE
BEGIN:VEVENT
DTSTART;TZID=America/New_York:20240919T190000
DTEND;TZID=America/New_York:20240919T210000
DTSTAMP:20260422T220505
CREATED:20240722T160652Z
LAST-MODIFIED:20240820T140112Z
UID:4658-1726772400-1726779600@baddogmama.com
SUMMARY:Chelsea Saddler’s Comedy Contest!
DESCRIPTION:TO COMPETE: \nThink you got what it takes? Bring your best comedic material to The Waterworks on September 19th and find out! Our grand prize winner will be chosen by a panel of judges and receive $500 CASH to take home! An audience favorite will be voted for by attendees to receive $150 CASH! The comic with the most votes wins the audience favorite so bring your family and friends! A third prize of an honorable mention will be chosen by the judges and awarded $50! \n*Grand prize winner cannot win audience favorite \n*Comedians must apply. If chosen\, an entry fee of $20 is required \n*Applicants may submit a video for consideration to: booking@chelseasaddler.com \n*Chosen contestants will be notified by August 5th. \n  \nTO ATTEND: \nPurchase tickets at Chelsea Saddler’s Comedy Contest! – Chelsea Saddler
URL:https://baddogmama.com/event/chelsea-saddlers-comedy-contest/
LOCATION:The Waterworks\, 184 San Marco Ave\, Saint Augustine\, FL\, 32084\, United States
ATTACH;FMTTYPE=image/jpeg:https://baddogmama.com/wp-content/uploads/2024/07/ComedySept19.jpg
END:VEVENT
BEGIN:VEVENT
DTSTART;TZID=UTC:20240915T130000
DTEND;TZID=UTC:20240915T140000
DTSTAMP:20260422T220505
CREATED:20240910T115353Z
LAST-MODIFIED:20240910T115353Z
UID:4686-1726405200-1726408800@baddogmama.com
SUMMARY:Gigs & Giggles Music Workshop
DESCRIPTION:
URL:https://baddogmama.com/event/gigs-giggles-music-workshop/
LOCATION:The Waterworks\, 184 San Marco Ave\, Saint Augustine\, FL\, 32084\, United States
ATTACH;FMTTYPE=image/jpeg:https://baddogmama.com/wp-content/uploads/2023/05/BDM7sq.jpg
END:VEVENT
BEGIN:VEVENT
DTSTART;TZID=America/New_York:20240908T140000
DTEND;TZID=America/New_York:20240908T170000
DTSTAMP:20260422T220505
CREATED:20240820T141732Z
LAST-MODIFIED:20240820T141732Z
UID:4684-1725804000-1725814800@baddogmama.com
SUMMARY:Old Coast Ales
DESCRIPTION:
URL:https://baddogmama.com/event/old-coast-ales-11/
LOCATION:Old Coast Ales\, 300 Anastasia Blvd\, Saint Augustine\, FL\, 32080\, United States
END:VEVENT
BEGIN:VEVENT
DTSTART;VALUE=DATE:20240907
DTEND;VALUE=DATE:20240908
DTSTAMP:20260422T220505
CREATED:20240820T140320Z
LAST-MODIFIED:20240820T140320Z
UID:4671-1725667200-1725753599@baddogmama.com
SUMMARY:Private
DESCRIPTION:
URL:https://baddogmama.com/event/private-2/
LOCATION:FL
END:VEVENT
BEGIN:VEVENT
DTSTART;TZID=America/New_York:20240906T183000
DTEND;TZID=America/New_York:20240906T210000
DTSTAMP:20260422T220505
CREATED:20240820T140039Z
LAST-MODIFIED:20240820T140039Z
UID:4669-1725647400-1725656400@baddogmama.com
SUMMARY:Prohibition Kitchen
DESCRIPTION:
URL:https://baddogmama.com/event/prohibition-kitchen-13/
LOCATION:Prohibition Kitchen\, 119 St George St\, Saint Augustine\, FL\, 32084\, United States
END:VEVENT
BEGIN:VEVENT
DTSTART;TZID=America/New_York:20240905T170000
DTEND;TZID=America/New_York:20240905T200000
DTSTAMP:20260422T220505
CREATED:20240820T135929Z
LAST-MODIFIED:20240820T140144Z
UID:4667-1725555600-1725566400@baddogmama.com
SUMMARY:Marina Munch
DESCRIPTION:
URL:https://baddogmama.com/event/marina-munch-3/
LOCATION:Marina Munch\, 509 S Ponce de Leon Blvd\, ST AUGUSTINE\, FL\, 32084\, United States
END:VEVENT
BEGIN:VEVENT
DTSTART;VALUE=DATE:20240830
DTEND;VALUE=DATE:20240831
DTSTAMP:20260422T220505
CREATED:20240820T135145Z
LAST-MODIFIED:20240820T135145Z
UID:4665-1724976000-1725062399@baddogmama.com
SUMMARY:Private
DESCRIPTION:
URL:https://baddogmama.com/event/private/
LOCATION:FL
END:VEVENT
BEGIN:VEVENT
DTSTART;TZID=America/New_York:20240824T210000
DTEND;TZID=America/New_York:20240824T235900
DTSTAMP:20260422T220505
CREATED:20240722T160414Z
LAST-MODIFIED:20240820T140213Z
UID:4656-1724533200-1724543940@baddogmama.com
SUMMARY:Lauren at Barley Republic with Trevor Compton
DESCRIPTION:
URL:https://baddogmama.com/event/barley-republic-14/
LOCATION:Barley Republic\, 48 Spanish St\, Saint Augustine\, FL\, 32084\, United States
ATTACH;FMTTYPE=image/jpeg:https://baddogmama.com/wp-content/uploads/2023/05/1D70CA70-CD95-44AC-9BF8-C94D0F5D9F1B.jpeg
END:VEVENT
BEGIN:VEVENT
DTSTART;TZID=America/New_York:20240822T180000
DTEND;TZID=America/New_York:20240822T210000
DTSTAMP:20260422T220505
CREATED:20240722T160319Z
LAST-MODIFIED:20240820T140249Z
UID:4654-1724349600-1724360400@baddogmama.com
SUMMARY:Lauren SOLO at Prohibition Kitchen
DESCRIPTION:
URL:https://baddogmama.com/event/prohibition-kitchen-12/
LOCATION:Prohibition Kitchen\, 119 St George St\, Saint Augustine\, FL\, 32084\, United States
ATTACH;FMTTYPE=image/jpeg:https://baddogmama.com/wp-content/uploads/2023/05/BDM4sq.jpg
END:VEVENT
BEGIN:VEVENT
DTSTART;TZID=UTC:20240810T180000
DTEND;TZID=UTC:20240810T210000
DTSTAMP:20260422T220505
CREATED:20240722T155951Z
LAST-MODIFIED:20240722T155951Z
UID:4652-1723312800-1723323600@baddogmama.com
SUMMARY:Prohibition Kitchen
DESCRIPTION:
URL:https://baddogmama.com/event/prohibition-kitchen-11/
LOCATION:Prohibition Kitchen\, 119 St George St\, Saint Augustine\, FL\, 32084\, United States
ATTACH;FMTTYPE=image/jpeg:https://baddogmama.com/wp-content/uploads/2023/05/SittingInstruemtns-1.jpg
END:VEVENT
BEGIN:VEVENT
DTSTART;TZID=UTC:20240804T140000
DTEND;TZID=UTC:20240804T170000
DTSTAMP:20260422T220505
CREATED:20240707T143019Z
LAST-MODIFIED:20240707T143019Z
UID:4643-1722780000-1722790800@baddogmama.com
SUMMARY:Old Coast Ales
DESCRIPTION:
URL:https://baddogmama.com/event/old-coast-ales-10/
LOCATION:Old Coast Ales\, 300 Anastasia Blvd\, Saint Augustine\, FL\, 32080\, United States
ATTACH;FMTTYPE=image/jpeg:https://baddogmama.com/wp-content/uploads/2023/05/BDM6sq.jpg
END:VEVENT
BEGIN:VEVENT
DTSTART;TZID=UTC:20240803T180000
DTEND;TZID=UTC:20240803T210000
DTSTAMP:20260422T220505
CREATED:20240707T142922Z
LAST-MODIFIED:20240707T142922Z
UID:4640-1722708000-1722718800@baddogmama.com
SUMMARY:Lightnin' Salvage - Gainesville
DESCRIPTION:
URL:https://baddogmama.com/event/lightnin-salvage-gainesville/
LOCATION:Lightnin’ Salvage\, 1800 NE 23rd Ave\, Gainesville\, Florida\, 32609
ATTACH;FMTTYPE=image/jpeg:https://baddogmama.com/wp-content/uploads/2023/05/polaroid-1.jpg
END:VEVENT
BEGIN:VEVENT
DTSTART;TZID=UTC:20240801T170000
DTEND;TZID=UTC:20240801T200000
DTSTAMP:20260422T220505
CREATED:20240722T155737Z
LAST-MODIFIED:20240722T155737Z
UID:4650-1722531600-1722542400@baddogmama.com
SUMMARY:Marina Munch
DESCRIPTION:
URL:https://baddogmama.com/event/marina-munch-2/
LOCATION:Marina Munch\, 509 S Ponce de Leon Blvd\, ST AUGUSTINE\, FL\, 32084\, United States
ATTACH;FMTTYPE=image/jpeg:https://baddogmama.com/wp-content/uploads/2023/05/bdm-high-five.jpg
END:VEVENT
BEGIN:VEVENT
DTSTART;TZID=UTC:20240727T190000
DTEND;TZID=UTC:20240727T220000
DTSTAMP:20260422T220505
CREATED:20240722T152422Z
LAST-MODIFIED:20240722T152422Z
UID:4648-1722106800-1722117600@baddogmama.com
SUMMARY:Casa de Vino 57
DESCRIPTION:
URL:https://baddogmama.com/event/casa-de-vino-57-13/
LOCATION:Casa de Vino 57\, 57 Treasury St\, Saint Augustine\, 32084\, United States
ATTACH;FMTTYPE=image/jpeg:https://baddogmama.com/wp-content/uploads/2023/05/BDM5sq.jpg
END:VEVENT
BEGIN:VEVENT
DTSTART;TZID=UTC:20240720T190000
DTEND;TZID=UTC:20240720T203000
DTSTAMP:20260422T220505
CREATED:20240707T142637Z
LAST-MODIFIED:20240707T142637Z
UID:4638-1721502000-1721507400@baddogmama.com
SUMMARY:Spinster Abbott's
DESCRIPTION:
URL:https://baddogmama.com/event/spinster-abbotts/
LOCATION:Spinster Abbott’s\, 61 San Marco Ave\, Saint Augustine\, 32084\, United States
ATTACH;FMTTYPE=image/jpeg:https://baddogmama.com/wp-content/uploads/2023/05/1D70CA70-CD95-44AC-9BF8-C94D0F5D9F1B.jpeg
END:VEVENT
BEGIN:VEVENT
DTSTART;TZID=UTC:20240719T210000
DTEND;TZID=UTC:20240719T235900
DTSTAMP:20260422T220505
CREATED:20240707T142517Z
LAST-MODIFIED:20240707T142517Z
UID:4636-1721422800-1721433540@baddogmama.com
SUMMARY:Barley Republic
DESCRIPTION:
URL:https://baddogmama.com/event/barley-republic-13/
LOCATION:Barley Republic\, 48 Spanish St\, Saint Augustine\, FL\, 32084\, United States
ATTACH;FMTTYPE=image/jpeg:https://baddogmama.com/wp-content/uploads/2023/05/BDM5sq.jpg
END:VEVENT
BEGIN:VEVENT
DTSTART;TZID=UTC:20240707T140000
DTEND;TZID=UTC:20240707T170000
DTSTAMP:20260422T220505
CREATED:20240707T142425Z
LAST-MODIFIED:20240707T142425Z
UID:4634-1720360800-1720371600@baddogmama.com
SUMMARY:Old Coast Ales
DESCRIPTION:
URL:https://baddogmama.com/event/old-coast-ales-9/
LOCATION:Old Coast Ales\, 300 Anastasia Blvd\, Saint Augustine\, FL\, 32080\, United States
ATTACH;FMTTYPE=image/jpeg:https://baddogmama.com/wp-content/uploads/2023/05/IMG_5587.jpg
END:VEVENT
BEGIN:VEVENT
DTSTART;TZID=UTC:20240707T080000
DTEND;TZID=UTC:20240707T170000
DTSTAMP:20260422T220505
CREATED:20240707T143329Z
LAST-MODIFIED:20240707T143329Z
UID:4645-1720339200-1720371600@baddogmama.com
SUMMARY:Chelsea Saddler Solo at Blue Jay Listening Room
DESCRIPTION:JOIN US ON JULY 14th! \nYou are invited to join us on July 14th at 7pm for a magical night highlighting women in music hosted by Blue Jay Listening Rooms. \nTickets can be purchased in advance or at the door. \nTICKETS: 904TIX | Heart Strings : An All Female Songwriters Showcase at Blue Jay Listening Room
URL:https://baddogmama.com/event/chelsea-saddler-solo-at-blue-jay-listening-room/
LOCATION:FL
ATTACH;FMTTYPE=image/jpeg:https://baddogmama.com/wp-content/uploads/2023/05/BDM4sq.jpg
END:VEVENT
BEGIN:VEVENT
DTSTART;TZID=UTC:20240629T180000
DTEND;TZID=UTC:20240629T210000
DTSTAMP:20260422T220505
CREATED:20240603T234848Z
LAST-MODIFIED:20240603T234848Z
UID:4628-1719684000-1719694800@baddogmama.com
SUMMARY:Prohibition Kitchen
DESCRIPTION:
URL:https://baddogmama.com/event/prohibition-kitchen-10/
LOCATION:FL
ATTACH;FMTTYPE=image/jpeg:https://baddogmama.com/wp-content/uploads/2023/05/BDM7sq.jpg
END:VEVENT
BEGIN:VEVENT
DTSTART;TZID=UTC:20240623T130000
DTEND;TZID=UTC:20240623T160000
DTSTAMP:20260422T220505
CREATED:20240603T234800Z
LAST-MODIFIED:20240603T234800Z
UID:4626-1719147600-1719158400@baddogmama.com
SUMMARY:DJ's Clam Shack
DESCRIPTION:
URL:https://baddogmama.com/event/djs-clam-shack-2/
LOCATION:DJ’s Clam Shack\, 21 Hypolita St\, St Augustine\, Florida\, 32084
ATTACH;FMTTYPE=image/jpeg:https://baddogmama.com/wp-content/uploads/2023/05/1D70CA70-CD95-44AC-9BF8-C94D0F5D9F1B.jpeg
END:VEVENT
BEGIN:VEVENT
DTSTART;TZID=UTC:20240622T190000
DTEND;TZID=UTC:20240622T220000
DTSTAMP:20260422T220505
CREATED:20240603T234652Z
LAST-MODIFIED:20240622T210933Z
UID:4624-1719082800-1719093600@baddogmama.com
SUMMARY:CANCELLED due to weather
DESCRIPTION:
URL:https://baddogmama.com/event/casa-de-vino-3/
LOCATION:Casa de Vino 57\, 57 Treasury St\, Saint Augustine\, 32084\, United States
ATTACH;FMTTYPE=image/jpeg:https://baddogmama.com/wp-content/uploads/2023/05/SittingInstruemtns-1.jpg
END:VEVENT
BEGIN:VEVENT
DTSTART;TZID=UTC:20240621T210000
DTEND;TZID=UTC:20240621T235900
DTSTAMP:20260422T220505
CREATED:20240603T234605Z
LAST-MODIFIED:20240603T234605Z
UID:4622-1719003600-1719014340@baddogmama.com
SUMMARY:Barley Republic
DESCRIPTION:
URL:https://baddogmama.com/event/barley-republic-12/
LOCATION:Barley Republic\, 48 Spanish St\, Saint Augustine\, FL\, 32084\, United States
ATTACH;FMTTYPE=image/jpeg:https://baddogmama.com/wp-content/uploads/2023/05/IMG_5587.jpg
END:VEVENT
BEGIN:VEVENT
DTSTART;TZID=UTC:20240613T170000
DTEND;TZID=UTC:20240613T200000
DTSTAMP:20260422T220505
CREATED:20240603T234444Z
LAST-MODIFIED:20240603T234444Z
UID:4619-1718298000-1718308800@baddogmama.com
SUMMARY:Marina Munch
DESCRIPTION:
URL:https://baddogmama.com/event/marina-munch/
LOCATION:Marina Munch\, 509 S Ponce de Leon Blvd\, ST AUGUSTINE\, FL\, 32084\, United States
ATTACH;FMTTYPE=image/jpeg:https://baddogmama.com/wp-content/uploads/2023/05/polaroid-1.jpg
END:VEVENT
BEGIN:VEVENT
DTSTART;TZID=America/New_York:20240607T190000
DTEND;TZID=America/New_York:20240607T220000
DTSTAMP:20260422T220505
CREATED:20240603T234251Z
LAST-MODIFIED:20240603T234251Z
UID:4617-1717786800-1717797600@baddogmama.com
SUMMARY:Colonial Oak
DESCRIPTION:
URL:https://baddogmama.com/event/colonial-oak-5/
LOCATION:Colonial Oak Music Park\, 33 St. George St.\, Saint Augustine\, FL\, 32084\, United States
ATTACH;FMTTYPE=image/jpeg:https://baddogmama.com/wp-content/uploads/2023/05/E5CD5493-F48B-4395-A408-F5185E422738.jpeg
END:VEVENT
BEGIN:VEVENT
DTSTART;TZID=UTC:20240601T200000
DTEND;TZID=UTC:20240601T230000
DTSTAMP:20260422T220505
CREATED:20240508T131155Z
LAST-MODIFIED:20240508T131155Z
UID:4552-1717272000-1717282800@baddogmama.com
SUMMARY:Dogrose Brewing
DESCRIPTION:
URL:https://baddogmama.com/event/dogrose-brewing-3/
LOCATION:Dogrose Brewing\, 77 Bridge St.\, Saint Augustine\, FL\, 32084\, United States
ATTACH;FMTTYPE=image/jpeg:https://baddogmama.com/wp-content/uploads/2023/05/3C768FFF-66BE-4292-ABAC-34D9018C2EB6.jpeg
END:VEVENT
BEGIN:VEVENT
DTSTART;TZID=UTC:20240531T173000
DTEND;TZID=UTC:20240531T203000
DTSTAMP:20260422T220505
CREATED:20240508T131059Z
LAST-MODIFIED:20240508T131059Z
UID:4549-1717176600-1717187400@baddogmama.com
SUMMARY:Nocatee Food Truck Friday
DESCRIPTION:
URL:https://baddogmama.com/event/nocatee-food-truck-friday/
LOCATION:Nocatee Food Truck Friday\, 400 Nocatee Center Way\, Ponte Vedra\, FL\, 32081
ATTACH;FMTTYPE=image/jpeg:https://baddogmama.com/wp-content/uploads/2023/05/bdm-high-five.jpg
END:VEVENT
BEGIN:VEVENT
DTSTART;TZID=UTC:20240526T153000
DTEND;TZID=UTC:20240526T170000
DTSTAMP:20260422T220505
CREATED:20240508T130131Z
LAST-MODIFIED:20240508T130131Z
UID:4547-1716737400-1716742800@baddogmama.com
SUMMARY:Palatka Blue Crab Festival
DESCRIPTION:
URL:https://baddogmama.com/event/palatka-blue-crab-festival-2/
LOCATION:Palatka Blue Crab Festival\, 102 N 1st Street\, Palatka\, FL\, 32177\, United States
ATTACH;FMTTYPE=image/jpeg:https://baddogmama.com/wp-content/uploads/2023/05/SittingInstruemtns-1.jpg
END:VEVENT
BEGIN:VEVENT
DTSTART;TZID=UTC:20240524T180000
DTEND;TZID=UTC:20240524T210000
DTSTAMP:20260422T220505
CREATED:20240508T130006Z
LAST-MODIFIED:20240508T130006Z
UID:4545-1716573600-1716584400@baddogmama.com
SUMMARY:Prohibition Kitchen
DESCRIPTION:
URL:https://baddogmama.com/event/prohibition-kitchen-9/
LOCATION:Prohibition Kitchen\, 119 St George St\, Saint Augustine\, FL\, 32084\, United States
ATTACH;FMTTYPE=image/jpeg:https://baddogmama.com/wp-content/uploads/2023/05/BDM7sq.jpg
END:VEVENT
BEGIN:VEVENT
DTSTART;TZID=UTC:20240517T210000
DTEND;TZID=UTC:20240517T235900
DTSTAMP:20260422T220505
CREATED:20240508T125904Z
LAST-MODIFIED:20240508T125904Z
UID:4543-1715979600-1715990340@baddogmama.com
SUMMARY:Barley Republic
DESCRIPTION:
URL:https://baddogmama.com/event/barley-republic-11/
LOCATION:FL
ATTACH;FMTTYPE=image/jpeg:https://baddogmama.com/wp-content/uploads/2023/05/polaroid-2.jpg
END:VEVENT
BEGIN:VEVENT
DTSTART;TZID=UTC:20240516T190000
DTEND;TZID=UTC:20240516T210000
DTSTAMP:20260422T220505
CREATED:20240326T160500Z
LAST-MODIFIED:20240520T170238Z
UID:4383-1715886000-1715893200@baddogmama.com
SUMMARY:Bad Dog Mama: Live from The Waterworks
DESCRIPTION:Join us for the recording of Bad Dog Mama’s FIRST LIVE ALBUM! As an audience member\, you will experience the epic energy that is Bad Dog Mama\, all while knowing these magical moments are being recorded for your listening pleasure! Bad Dog Mama will release the entire live album after mixing and post-production. Release date will be Fall of 2024!
URL:https://baddogmama.com/event/bad-dog-mama-live-from-the-waterworks/
LOCATION:The Waterworks\, 184 San Marco Ave\, Saint Augustine\, FL\, 32084\, United States
ATTACH;FMTTYPE=image/jpeg:https://baddogmama.com/wp-content/uploads/2023/05/IMG_5587.jpg
END:VEVENT
END:VCALENDAR