BEGIN:VCALENDAR
VERSION:2.0
PRODID:-//Bad Dog Mama - ECPv6.15.20//NONSGML v1.0//EN
CALSCALE:GREGORIAN
METHOD:PUBLISH
X-WR-CALNAME:Bad Dog Mama
X-ORIGINAL-URL:https://baddogmama.com
X-WR-CALDESC:Events for Bad Dog Mama
REFRESH-INTERVAL;VALUE=DURATION:PT1H
X-Robots-Tag:noindex
X-PUBLISHED-TTL:PT1H
BEGIN:VTIMEZONE
TZID:UTC
BEGIN:STANDARD
TZOFFSETFROM:+0000
TZOFFSETTO:+0000
TZNAME:UTC
DTSTART:20220101T000000
END:STANDARD
END:VTIMEZONE
BEGIN:VEVENT
DTSTART;TZID=UTC:20240310T140000
DTEND;TZID=UTC:20240310T170000
DTSTAMP:20260423T115916
CREATED:20240223T201346Z
LAST-MODIFIED:20240223T201642Z
UID:4342-1710079200-1710090000@baddogmama.com
SUMMARY:Old Coast Ales
DESCRIPTION:
URL:https://baddogmama.com/event/old-coast-ales-7/
LOCATION:Old Coast Ales\, 300 Anastasia Blvd\, Saint Augustine\, FL\, 32080\, United States
END:VEVENT
BEGIN:VEVENT
DTSTART;TZID=UTC:20240309T200000
DTEND;TZID=UTC:20240309T230000
DTSTAMP:20260423T115916
CREATED:20240223T201236Z
LAST-MODIFIED:20240223T201236Z
UID:4340-1710014400-1710025200@baddogmama.com
SUMMARY:Dog Rose Brewing
DESCRIPTION:
URL:https://baddogmama.com/event/dog-rose-brewing/
LOCATION:Dogrose Brewing\, 77 Bridge St.\, Saint Augustine\, FL\, 32084\, United States
END:VEVENT
BEGIN:VEVENT
DTSTART;TZID=UTC:20240308T190000
DTEND;TZID=UTC:20240308T220000
DTSTAMP:20260423T115916
CREATED:20240223T201102Z
LAST-MODIFIED:20240223T201102Z
UID:4338-1709924400-1709935200@baddogmama.com
SUMMARY:Colonial Oak Music Park
DESCRIPTION:
URL:https://baddogmama.com/event/colonial-oak-music-park-4/
LOCATION:Colonial Oak Music Park\, 33 St. George St.\, Saint Augustine\, FL\, 32084\, United States
END:VEVENT
BEGIN:VEVENT
DTSTART;VALUE=DATE:20240302
DTEND;VALUE=DATE:20240303
DTSTAMP:20260423T115916
CREATED:20240223T200842Z
LAST-MODIFIED:20240223T200842Z
UID:4336-1709337600-1709423999@baddogmama.com
SUMMARY:Private event
DESCRIPTION:
URL:https://baddogmama.com/event/private-event-9/
LOCATION:FL
END:VEVENT
BEGIN:VEVENT
DTSTART;TZID=UTC:20240216T210000
DTEND;TZID=UTC:20240216T235900
DTSTAMP:20260423T115916
CREATED:20240126T121428Z
LAST-MODIFIED:20240126T121428Z
UID:4321-1708117200-1708127940@baddogmama.com
SUMMARY:Barley Republic
DESCRIPTION:
URL:https://baddogmama.com/event/barley-republic-8/
LOCATION:Barley Republic\, 48 Spanish St\, Saint Augustine\, FL\, 32084\, United States
ATTACH;FMTTYPE=image/jpeg:https://baddogmama.com/wp-content/uploads/2023/05/BDM5sq.jpg
END:VEVENT
BEGIN:VEVENT
DTSTART;TZID=UTC:20240213T180000
DTEND;TZID=UTC:20240213T210000
DTSTAMP:20260423T115916
CREATED:20240205T130549Z
LAST-MODIFIED:20240205T130549Z
UID:4327-1707847200-1707858000@baddogmama.com
SUMMARY:Sarbez! Townie Tuesday
DESCRIPTION:
URL:https://baddogmama.com/event/sarbez-townie-tuesday/
LOCATION:Sarbez!\, 115 Anastasia Blvd\, Saint Augustine\, FL\, 32080\, United States
END:VEVENT
BEGIN:VEVENT
DTSTART;TZID=UTC:20240210T190000
DTEND;TZID=UTC:20240210T210000
DTSTAMP:20260423T115916
CREATED:20230522T120731Z
LAST-MODIFIED:20240124T123139Z
UID:4071-1707591600-1707598800@baddogmama.com
SUMMARY:Live from The Waterworks
DESCRIPTION:Chelsea’s new album\, The Offering\, is available on all major music platforms for streaming and download. The lucky folks who attend this special release show at The Waterworks in St. Augustine\, Florida will be able to listen to the recently released songs performed LIVE. Ticketed attendees will also receive a limited print of the album art\, lyrics booklet (while supplies last)\, as well as access to digital download of the full album. \nThe historic listening venue seats only 100 guests\, so be sure to get your tickets early.
URL:https://baddogmama.com/event/live-from-the-waterworks/
LOCATION:The Waterworks\, 184 San Marco Ave\, Saint Augustine\, FL\, 32084\, United States
ATTACH;FMTTYPE=image/jpeg:https://baddogmama.com/wp-content/uploads/2023/05/SittingInstruemtns-1.jpg
END:VEVENT
BEGIN:VEVENT
DTSTART;TZID=UTC:20240209T190000
DTEND;TZID=UTC:20240209T220000
DTSTAMP:20260423T115916
CREATED:20240126T121321Z
LAST-MODIFIED:20240126T121321Z
UID:4319-1707505200-1707516000@baddogmama.com
SUMMARY:Colonial Oak Music Park
DESCRIPTION:
URL:https://baddogmama.com/event/colonial-oak-music-park-3/
LOCATION:Colonial Oak Music Park\, 33 St. George St.\, Saint Augustine\, FL\, 32084\, United States
END:VEVENT
BEGIN:VEVENT
DTSTART;TZID=UTC:20240204T140000
DTEND;TZID=UTC:20240204T170000
DTSTAMP:20260423T115916
CREATED:20240126T121103Z
LAST-MODIFIED:20240126T121103Z
UID:4317-1707055200-1707066000@baddogmama.com
SUMMARY:Old Coast Ales
DESCRIPTION:
URL:https://baddogmama.com/event/old-coast-ales-6/
LOCATION:Old Coast Ales\, 300 Anastasia Blvd\, Saint Augustine\, FL\, 32080\, United States
ATTACH;FMTTYPE=image/jpeg:https://baddogmama.com/wp-content/uploads/2023/05/IMG_5587.jpg
END:VEVENT
BEGIN:VEVENT
DTSTART;TZID=UTC:20240202T190000
DTEND;TZID=UTC:20240202T220000
DTSTAMP:20260423T115916
CREATED:20240126T120956Z
LAST-MODIFIED:20240126T120956Z
UID:4315-1706900400-1706911200@baddogmama.com
SUMMARY:Casa de Vino 57
DESCRIPTION:
URL:https://baddogmama.com/event/casa-de-vino-57-10/
LOCATION:Casa de Vino 57\, 57 Treasury St\, Saint Augustine\, 32084\, United States
ATTACH;FMTTYPE=image/jpeg:https://baddogmama.com/wp-content/uploads/2023/05/SittingInstruemtns-1.jpg
END:VEVENT
BEGIN:VEVENT
DTSTART;TZID=UTC:20240127T180000
DTEND;TZID=UTC:20240127T210000
DTSTAMP:20260423T115916
CREATED:20231230T184051Z
LAST-MODIFIED:20231230T184051Z
UID:4306-1706378400-1706389200@baddogmama.com
SUMMARY:Prohibition Kitchen
DESCRIPTION:
URL:https://baddogmama.com/event/prohibition-kitchen-8/
LOCATION:Prohibition Kitchen\, 119 St George St\, Saint Augustine\, FL\, 32084\, United States
ATTACH;FMTTYPE=image/jpeg:https://baddogmama.com/wp-content/uploads/2023/05/pk-1.jpg
END:VEVENT
BEGIN:VEVENT
DTSTART;TZID=UTC:20240120T190000
DTEND;TZID=UTC:20240120T220000
DTSTAMP:20260423T115916
CREATED:20231230T183750Z
LAST-MODIFIED:20240108T130223Z
UID:4300-1705777200-1705788000@baddogmama.com
SUMMARY:Casa de Vino 57
DESCRIPTION:
URL:https://baddogmama.com/event/casa-de-vino-57-9/
LOCATION:Casa de Vino 57\, 57 Treasury St\, Saint Augustine\, 32084\, United States
ATTACH;FMTTYPE=image/jpeg:https://baddogmama.com/wp-content/uploads/2023/05/IMG_5587.jpg
END:VEVENT
BEGIN:VEVENT
DTSTART;VALUE=DATE:20240120
DTEND;VALUE=DATE:20240121
DTSTAMP:20260423T115916
CREATED:20231230T184002Z
LAST-MODIFIED:20231230T184002Z
UID:4304-1705708800-1705795199@baddogmama.com
SUMMARY:Private Event
DESCRIPTION:
URL:https://baddogmama.com/event/private-event-8/
LOCATION:FL
END:VEVENT
BEGIN:VEVENT
DTSTART;VALUE=DATE:20240113
DTEND;VALUE=DATE:20240114
DTSTAMP:20260423T115916
CREATED:20231230T183816Z
LAST-MODIFIED:20231230T183816Z
UID:4302-1705104000-1705190399@baddogmama.com
SUMMARY:Private Event
DESCRIPTION:
URL:https://baddogmama.com/event/private-event-7/
LOCATION:FL
END:VEVENT
BEGIN:VEVENT
DTSTART;TZID=UTC:20240111T170000
DTEND;TZID=UTC:20240111T180000
DTSTAMP:20260423T115916
CREATED:20231230T183653Z
LAST-MODIFIED:20231230T183653Z
UID:4297-1704992400-1704996000@baddogmama.com
SUMMARY:Sarbez!
DESCRIPTION:
URL:https://baddogmama.com/event/sarbez/
LOCATION:Sarbez!\, 115 Anastasia Blvd\, Saint Augustine\, FL\, 32080\, United States
ATTACH;FMTTYPE=image/jpeg:https://baddogmama.com/wp-content/uploads/2023/05/polaroid-2.jpg
END:VEVENT
BEGIN:VEVENT
DTSTART;TZID=UTC:20240107T140000
DTEND;TZID=UTC:20240107T170000
DTSTAMP:20260423T115916
CREATED:20231230T183355Z
LAST-MODIFIED:20231230T183355Z
UID:4295-1704636000-1704646800@baddogmama.com
SUMMARY:Old Coast
DESCRIPTION:
URL:https://baddogmama.com/event/old-coast-2/
LOCATION:Old Coast Ales\, 300 Anastasia Blvd\, Saint Augustine\, FL\, 32080\, United States
ATTACH;FMTTYPE=image/jpeg:https://baddogmama.com/wp-content/uploads/2023/05/SittingInstruemtns-1.jpg
END:VEVENT
BEGIN:VEVENT
DTSTART;VALUE=DATE:20240105
DTEND;VALUE=DATE:20240106
DTSTAMP:20260423T115916
CREATED:20231230T183247Z
LAST-MODIFIED:20231230T183247Z
UID:4293-1704412800-1704499199@baddogmama.com
SUMMARY:Private Event
DESCRIPTION:
URL:https://baddogmama.com/event/private-event-6/
LOCATION:FL
END:VEVENT
BEGIN:VEVENT
DTSTART;TZID=UTC:20231230T180000
DTEND;TZID=UTC:20231230T210000
DTSTAMP:20260423T115916
CREATED:20231121T204901Z
LAST-MODIFIED:20231121T204901Z
UID:4282-1703959200-1703970000@baddogmama.com
SUMMARY:Prohibition Kitchen
DESCRIPTION:
URL:https://baddogmama.com/event/prohibition-kitchen-7/
LOCATION:FL
ATTACH;FMTTYPE=image/jpeg:https://baddogmama.com/wp-content/uploads/2023/05/pk-1.jpg
END:VEVENT
BEGIN:VEVENT
DTSTART;TZID=UTC:20231223T160000
DTEND;TZID=UTC:20231223T190000
DTSTAMP:20260423T115916
CREATED:20231121T204745Z
LAST-MODIFIED:20231220T132503Z
UID:4279-1703347200-1703358000@baddogmama.com
SUMMARY:Dogrose Brewing
DESCRIPTION:
URL:https://baddogmama.com/event/dogrose-brewing-2/
LOCATION:Dogrose Brewing\, 77 Bridge St.\, Saint Augustine\, FL\, 32084\, United States
ATTACH;FMTTYPE=image/jpeg:https://baddogmama.com/wp-content/uploads/2023/05/1968D4ED-D201-4777-9EE8-1265552CAF28-1.jpeg
END:VEVENT
BEGIN:VEVENT
DTSTART;TZID=UTC:20231222T190000
DTEND;TZID=UTC:20231222T220000
DTSTAMP:20260423T115916
CREATED:20231121T204641Z
LAST-MODIFIED:20231121T204641Z
UID:4277-1703271600-1703282400@baddogmama.com
SUMMARY:Colonial Oak
DESCRIPTION:
URL:https://baddogmama.com/event/colonial-oak-4/
LOCATION:FL
ATTACH;FMTTYPE=image/jpeg:https://baddogmama.com/wp-content/uploads/2023/05/BDM6sq.jpg
END:VEVENT
BEGIN:VEVENT
DTSTART;VALUE=DATE:20231216
DTEND;VALUE=DATE:20231217
DTSTAMP:20260423T115916
CREATED:20231121T204550Z
LAST-MODIFIED:20231121T204550Z
UID:4275-1702684800-1702771199@baddogmama.com
SUMMARY:Private Event
DESCRIPTION:
URL:https://baddogmama.com/event/private-event-5/
LOCATION:FL
END:VEVENT
BEGIN:VEVENT
DTSTART;TZID=UTC:20231215T210000
DTEND;TZID=UTC:20231215T235900
DTSTAMP:20260423T115916
CREATED:20231121T204512Z
LAST-MODIFIED:20231121T204512Z
UID:4273-1702674000-1702684740@baddogmama.com
SUMMARY:Barley Republic
DESCRIPTION:
URL:https://baddogmama.com/event/barley-republic-7/
LOCATION:Barley Republic\, 48 Spanish St\, Saint Augustine\, FL\, 32084\, United States
ATTACH;FMTTYPE=image/jpeg:https://baddogmama.com/wp-content/uploads/2023/05/BDM5sq.jpg
END:VEVENT
BEGIN:VEVENT
DTSTART;VALUE=DATE:20231212
DTEND;VALUE=DATE:20231213
DTSTAMP:20260423T115916
CREATED:20231121T204403Z
LAST-MODIFIED:20231121T204403Z
UID:4271-1702339200-1702425599@baddogmama.com
SUMMARY:Private Event
DESCRIPTION:
URL:https://baddogmama.com/event/private-event-4/
LOCATION:FL
END:VEVENT
BEGIN:VEVENT
DTSTART;TZID=UTC:20231208T190000
DTEND;TZID=UTC:20231208T220000
DTSTAMP:20260423T115916
CREATED:20231121T205033Z
LAST-MODIFIED:20231121T205033Z
UID:4285-1702062000-1702072800@baddogmama.com
SUMMARY:Casa de Vino 57
DESCRIPTION:
URL:https://baddogmama.com/event/casa-de-vino-57-8/
LOCATION:Casa de Vino 57\, 57 Treasury St\, Saint Augustine\, 32084\, United States
ATTACH;FMTTYPE=image/jpeg:https://baddogmama.com/wp-content/uploads/2023/05/BDM5sq.jpg
END:VEVENT
BEGIN:VEVENT
DTSTART;TZID=UTC:20231203T140000
DTEND;TZID=UTC:20231203T170000
DTSTAMP:20260423T115916
CREATED:20231121T204144Z
LAST-MODIFIED:20231121T204144Z
UID:4266-1701612000-1701622800@baddogmama.com
SUMMARY:Old Coast
DESCRIPTION:
URL:https://baddogmama.com/event/old-coast/
LOCATION:Old Coast Ales\, 300 Anastasia Blvd\, Saint Augustine\, FL\, 32080\, United States
ATTACH;FMTTYPE=image/jpeg:https://baddogmama.com/wp-content/uploads/2023/05/SittingInstruemtns-1.jpg
END:VEVENT
BEGIN:VEVENT
DTSTART;VALUE=DATE:20231202
DTEND;VALUE=DATE:20231203
DTSTAMP:20260423T115916
CREATED:20231121T203826Z
LAST-MODIFIED:20231121T203826Z
UID:4262-1701475200-1701561599@baddogmama.com
SUMMARY:Private Event
DESCRIPTION:
URL:https://baddogmama.com/event/private-event-3/
LOCATION:FL
END:VEVENT
BEGIN:VEVENT
DTSTART;VALUE=DATE:20231201
DTEND;VALUE=DATE:20231202
DTSTAMP:20260423T115916
CREATED:20231121T203645Z
LAST-MODIFIED:20231121T203645Z
UID:4260-1701388800-1701475199@baddogmama.com
SUMMARY:Private Event
DESCRIPTION:
URL:https://baddogmama.com/event/private-event-2/
LOCATION:FL
END:VEVENT
BEGIN:VEVENT
DTSTART;TZID=UTC:20231125T140000
DTEND;TZID=UTC:20231125T160000
DTSTAMP:20260423T115916
CREATED:20231028T155245Z
LAST-MODIFIED:20231028T155245Z
UID:4250-1700920800-1700928000@baddogmama.com
SUMMARY:Hasting Main Street Fall Festival
DESCRIPTION:
URL:https://baddogmama.com/event/hasting-main-street-fall-festival/
LOCATION:FL
ATTACH;FMTTYPE=image/jpeg:https://baddogmama.com/wp-content/uploads/2023/05/IMG_5587.jpg
END:VEVENT
BEGIN:VEVENT
DTSTART;TZID=UTC:20231124T190000
DTEND;TZID=UTC:20231124T220000
DTSTAMP:20260423T115916
CREATED:20231028T154840Z
LAST-MODIFIED:20231028T154840Z
UID:4248-1700852400-1700863200@baddogmama.com
SUMMARY:Colonial Quarter
DESCRIPTION:
URL:https://baddogmama.com/event/colonial-quarter/
LOCATION:Colonial Oak Music Park\, 33 St. George St.\, Saint Augustine\, FL\, 32084\, United States
ATTACH;FMTTYPE=image/jpeg:https://baddogmama.com/wp-content/uploads/2023/05/E5CD5493-F48B-4395-A408-F5185E422738.jpeg
END:VEVENT
BEGIN:VEVENT
DTSTART;TZID=UTC:20231121T190000
DTEND;TZID=UTC:20231121T220000
DTSTAMP:20260423T115916
CREATED:20231121T204259Z
LAST-MODIFIED:20231121T204259Z
UID:4268-1700593200-1700604000@baddogmama.com
SUMMARY:Casa de Vino 57
DESCRIPTION:
URL:https://baddogmama.com/event/casa-de-vino-57-7/
LOCATION:Casa de Vino 57\, 57 Treasury St\, Saint Augustine\, 32084\, United States
ATTACH;FMTTYPE=image/jpeg:https://baddogmama.com/wp-content/uploads/2023/05/IMG_5587.jpg
END:VEVENT
END:VCALENDAR