BEGIN:VCALENDAR
VERSION:2.0
PRODID:-//Bad Dog Mama - ECPv6.15.20//NONSGML v1.0//EN
CALSCALE:GREGORIAN
METHOD:PUBLISH
X-WR-CALNAME:Bad Dog Mama
X-ORIGINAL-URL:https://baddogmama.com
X-WR-CALDESC:Events for Bad Dog Mama
REFRESH-INTERVAL;VALUE=DURATION:PT1H
X-Robots-Tag:noindex
X-PUBLISHED-TTL:PT1H
BEGIN:VTIMEZONE
TZID:UTC
BEGIN:STANDARD
TZOFFSETFROM:+0000
TZOFFSETTO:+0000
TZNAME:UTC
DTSTART:20220101T000000
END:STANDARD
END:VTIMEZONE
BEGIN:VEVENT
DTSTART;TZID=UTC:20230504T180000
DTEND;TZID=UTC:20230504T210000
DTSTAMP:20260423T234839
CREATED:20230503T163752Z
LAST-MODIFIED:20230503T164312Z
UID:1657-1683223200-1683234000@baddogmama.com
SUMMARY:Borillo's Uptown Pizzeria
DESCRIPTION:
URL:https://baddogmama.com/event/borillos-uptown-pizzeria/
LOCATION:Borillo’s Uptown Pizzeria\, 88 San Marco Ave\, Saint Augustine\, FL\, 32084\, United States
ATTACH;FMTTYPE=image/jpeg:https://baddogmama.com/wp-content/uploads/2023/05/321759975_505708824994160_6003847266906799605_n.jpg
END:VEVENT
BEGIN:VEVENT
DTSTART;TZID=UTC:20230503T180000
DTEND;TZID=UTC:20230503T210000
DTSTAMP:20260423T234839
CREATED:20230503T161457Z
LAST-MODIFIED:20230503T163453Z
UID:1647-1683136800-1683147600@baddogmama.com
SUMMARY:Old Coast Ales
DESCRIPTION:
URL:https://baddogmama.com/event/old-coast-ales/
LOCATION:Old Coast Ales\, 300 Anastasia Blvd\, Saint Augustine\, FL\, 32080\, United States
ATTACH;FMTTYPE=image/jpeg:https://baddogmama.com/wp-content/uploads/2023/05/334959462_1462238261182888_78420582231760209_n.jpg
END:VEVENT
END:VCALENDAR