BEGIN:VCALENDAR
VERSION:2.0
PRODID:-//Bad Dog Mama - ECPv6.15.20//NONSGML v1.0//EN
CALSCALE:GREGORIAN
METHOD:PUBLISH
X-WR-CALNAME:Bad Dog Mama
X-ORIGINAL-URL:https://baddogmama.com
X-WR-CALDESC:Events for Bad Dog Mama
REFRESH-INTERVAL;VALUE=DURATION:PT1H
X-Robots-Tag:noindex
X-PUBLISHED-TTL:PT1H
BEGIN:VTIMEZONE
TZID:America/New_York
BEGIN:DAYLIGHT
TZOFFSETFROM:-0500
TZOFFSETTO:-0400
TZNAME:EDT
DTSTART:20240310T070000
END:DAYLIGHT
BEGIN:STANDARD
TZOFFSETFROM:-0400
TZOFFSETTO:-0500
TZNAME:EST
DTSTART:20241103T060000
END:STANDARD
BEGIN:DAYLIGHT
TZOFFSETFROM:-0500
TZOFFSETTO:-0400
TZNAME:EDT
DTSTART:20250309T070000
END:DAYLIGHT
BEGIN:STANDARD
TZOFFSETFROM:-0400
TZOFFSETTO:-0500
TZNAME:EST
DTSTART:20251102T060000
END:STANDARD
BEGIN:DAYLIGHT
TZOFFSETFROM:-0500
TZOFFSETTO:-0400
TZNAME:EDT
DTSTART:20260308T070000
END:DAYLIGHT
BEGIN:STANDARD
TZOFFSETFROM:-0400
TZOFFSETTO:-0500
TZNAME:EST
DTSTART:20261101T060000
END:STANDARD
END:VTIMEZONE
BEGIN:VTIMEZONE
TZID:UTC
BEGIN:STANDARD
TZOFFSETFROM:+0000
TZOFFSETTO:+0000
TZNAME:UTC
DTSTART:20240101T000000
END:STANDARD
END:VTIMEZONE
BEGIN:VEVENT
DTSTART;TZID=America/New_York:20250422T190000
DTEND;TZID=America/New_York:20250422T220000
DTSTAMP:20260422T225747
CREATED:20250403T115343Z
LAST-MODIFIED:20250403T115343Z
UID:4858-1745348400-1745359200@baddogmama.com
SUMMARY:Pierre's Pub
DESCRIPTION:
URL:https://baddogmama.com/event/pierres-pub-6/
LOCATION:Pierre’s Pub\, Saint Augustin\, FL
END:VEVENT
BEGIN:VEVENT
DTSTART;TZID=America/New_York:20250418T210000
DTEND;TZID=America/New_York:20250418T235900
DTSTAMP:20260422T225747
CREATED:20250327T133009Z
LAST-MODIFIED:20250327T133009Z
UID:4847-1745010000-1745020740@baddogmama.com
SUMMARY:Barley Republic
DESCRIPTION:
URL:https://baddogmama.com/event/barley-republic-20/
LOCATION:Barley Republic\, 48 Spanish St\, Saint Augustine\, FL\, 32084\, United States
END:VEVENT
BEGIN:VEVENT
DTSTART;TZID=America/New_York:20250413T140000
DTEND;TZID=America/New_York:20250413T150000
DTSTAMP:20260422T225747
CREATED:20250327T132918Z
LAST-MODIFIED:20250327T132918Z
UID:4844-1744552800-1744556400@baddogmama.com
SUMMARY:Gamble Rogers Music Festival - Main Stage
DESCRIPTION:
URL:https://baddogmama.com/event/gamble-rogers-music-festival-main-stage/
LOCATION:Gamble Rogers Music Festival\, 5840 State Road 207\, Elkton\, FL\, 32033
END:VEVENT
BEGIN:VEVENT
DTSTART;TZID=America/New_York:20250412T190000
DTEND;TZID=America/New_York:20250412T220000
DTSTAMP:20260422T225747
CREATED:20250327T132610Z
LAST-MODIFIED:20250327T132610Z
UID:4842-1744484400-1744495200@baddogmama.com
SUMMARY:Casa de Vino 57
DESCRIPTION:
URL:https://baddogmama.com/event/casa-de-vino-57-19/
LOCATION:Casa de Vino 57\, 57 Treasury St\, Saint Augustine\, 32084\, United States
END:VEVENT
BEGIN:VEVENT
DTSTART;TZID=America/New_York:20250406T140000
DTEND;TZID=America/New_York:20250406T170000
DTSTAMP:20260422T225747
CREATED:20250327T132527Z
LAST-MODIFIED:20250327T132527Z
UID:4840-1743948000-1743958800@baddogmama.com
SUMMARY:Old Coast Ales
DESCRIPTION:
URL:https://baddogmama.com/event/old-coast-ales-17/
LOCATION:Old Coast Ales\, 300 Anastasia Blvd\, Saint Augustine\, FL\, 32080\, United States
END:VEVENT
BEGIN:VEVENT
DTSTART;TZID=America/New_York:20250405T150000
DTEND;TZID=America/New_York:20250405T160000
DTSTAMP:20260422T225747
CREATED:20250327T132444Z
LAST-MODIFIED:20250327T132444Z
UID:4837-1743865200-1743868800@baddogmama.com
SUMMARY:Word of South Music Festival
DESCRIPTION:Bad Dog Mama plays Word of South Music Festival in Tallahassee at 3pm on the Ology Troubadours Stage!
URL:https://baddogmama.com/event/word-of-south-music-festival/
LOCATION:Word of South Music Festival\, Cascades Park\, Tallahassee\, FL
END:VEVENT
BEGIN:VEVENT
DTSTART;TZID=America/New_York:20250403T180000
DTEND;TZID=America/New_York:20250403T210000
DTSTAMP:20260422T225747
CREATED:20250327T131920Z
LAST-MODIFIED:20250327T131920Z
UID:4834-1743703200-1743714000@baddogmama.com
SUMMARY:Prohibition Kitchen
DESCRIPTION:
URL:https://baddogmama.com/event/prohibition-kitchen-26/
LOCATION:Prohibition Kitchen\, 119 St George St\, Saint Augustine\, FL\, 32084\, United States
END:VEVENT
BEGIN:VEVENT
DTSTART;TZID=America/New_York:20250329T190000
DTEND;TZID=America/New_York:20250329T220000
DTSTAMP:20260422T225747
CREATED:20250227T115333Z
LAST-MODIFIED:20250227T115333Z
UID:4826-1743274800-1743285600@baddogmama.com
SUMMARY:Casa de Vino 57
DESCRIPTION:
URL:https://baddogmama.com/event/casa-de-vino-57-18/
LOCATION:Casa de Vino 57\, 57 Treasury St\, Saint Augustine\, 32084\, United States
END:VEVENT
BEGIN:VEVENT
DTSTART;TZID=America/New_York:20250322T180000
DTEND;TZID=America/New_York:20250322T210000
DTSTAMP:20260422T225747
CREATED:20250227T115228Z
LAST-MODIFIED:20250227T115228Z
UID:4824-1742666400-1742677200@baddogmama.com
SUMMARY:Prohibition Kitchen
DESCRIPTION:
URL:https://baddogmama.com/event/prohibition-kitchen-25/
LOCATION:Prohibition Kitchen\, 119 St George St\, Saint Augustine\, FL\, 32084\, United States
END:VEVENT
BEGIN:VEVENT
DTSTART;TZID=America/New_York:20250321T210000
DTEND;TZID=America/New_York:20250321T235900
DTSTAMP:20260422T225747
CREATED:20250227T115149Z
LAST-MODIFIED:20250227T115149Z
UID:4822-1742590800-1742601540@baddogmama.com
SUMMARY:Barley Republic
DESCRIPTION:
URL:https://baddogmama.com/event/barley-republic-19/
LOCATION:Barley Republic\, 48 Spanish St\, Saint Augustine\, FL\, 32084\, United States
END:VEVENT
BEGIN:VEVENT
DTSTART;TZID=America/New_York:20250315T190000
DTEND;TZID=America/New_York:20250315T220000
DTSTAMP:20260422T225747
CREATED:20250227T115058Z
LAST-MODIFIED:20250227T115058Z
UID:4820-1742065200-1742076000@baddogmama.com
SUMMARY:Colonial Quarter - Backstage
DESCRIPTION:
URL:https://baddogmama.com/event/colonial-quarter-backstage/
LOCATION:Colonial Oak Music Park\, 33 St. George St.\, Saint Augustine\, FL\, 32084\, United States
END:VEVENT
BEGIN:VEVENT
DTSTART;TZID=America/New_York:20250314T200000
DTEND;TZID=America/New_York:20250314T230000
DTSTAMP:20260422T225747
CREATED:20250227T115011Z
LAST-MODIFIED:20250227T115011Z
UID:4818-1741982400-1741993200@baddogmama.com
SUMMARY:Dog Rose Brewing
DESCRIPTION:
URL:https://baddogmama.com/event/dog-rose-brewing-2/
LOCATION:Dogrose Brewing\, 77 Bridge St.\, Saint Augustine\, FL\, 32084\, United States
END:VEVENT
BEGIN:VEVENT
DTSTART;TZID=America/New_York:20250313T180000
DTEND;TZID=America/New_York:20250313T210000
DTSTAMP:20260422T225747
CREATED:20250227T114928Z
LAST-MODIFIED:20250227T114928Z
UID:4816-1741888800-1741899600@baddogmama.com
SUMMARY:Prohibition Kitchen
DESCRIPTION:
URL:https://baddogmama.com/event/prohibition-kitchen-24/
LOCATION:Prohibition Kitchen\, 119 St George St\, Saint Augustine\, FL\, 32084\, United States
END:VEVENT
BEGIN:VEVENT
DTSTART;TZID=UTC:20250309T123000
DTEND;TZID=UTC:20250309T130000
DTSTAMP:20260422T225747
CREATED:20250227T114847Z
LAST-MODIFIED:20250227T114847Z
UID:4814-1741523400-1741525200@baddogmama.com
SUMMARY:Will McLean Music Festival
DESCRIPTION:Held every year at The Florida Sand Music Ranch in Brooksville\, FL!
URL:https://baddogmama.com/event/will-mclean-music-festival/
LOCATION:FL
END:VEVENT
BEGIN:VEVENT
DTSTART;TZID=America/New_York:20250302T140000
DTEND;TZID=America/New_York:20250302T170000
DTSTAMP:20260422T225747
CREATED:20250227T114647Z
LAST-MODIFIED:20250227T114647Z
UID:4812-1740924000-1740934800@baddogmama.com
SUMMARY:Old Coast Ales
DESCRIPTION:
URL:https://baddogmama.com/event/old-coast-ales-16/
LOCATION:Old Coast Ales\, 300 Anastasia Blvd\, Saint Augustine\, FL\, 32080\, United States
END:VEVENT
BEGIN:VEVENT
DTSTART;TZID=America/New_York:20250301T200000
DTEND;TZID=America/New_York:20250301T230000
DTSTAMP:20260422T225747
CREATED:20250227T114611Z
LAST-MODIFIED:20250227T114611Z
UID:4810-1740859200-1740870000@baddogmama.com
SUMMARY:Pierre's Pub
DESCRIPTION:
URL:https://baddogmama.com/event/pierres-pub-5/
LOCATION:Pierre’s Pub\, Saint Augustin\, FL
END:VEVENT
BEGIN:VEVENT
DTSTART;TZID=America/New_York:20250219T190000
DTEND;TZID=America/New_York:20250219T220000
DTSTAMP:20260422T225747
CREATED:20250131T141020Z
LAST-MODIFIED:20250131T141020Z
UID:4805-1739991600-1740002400@baddogmama.com
SUMMARY:Pierre's Pub
DESCRIPTION:
URL:https://baddogmama.com/event/pierres-pub-4/
LOCATION:Pierre’s Pub\, Saint Augustin\, FL
END:VEVENT
BEGIN:VEVENT
DTSTART;TZID=America/New_York:20250215T210000
DTEND;TZID=America/New_York:20250215T235900
DTSTAMP:20260422T225747
CREATED:20250211T145750Z
LAST-MODIFIED:20250211T145750Z
UID:4808-1739653200-1739663940@baddogmama.com
SUMMARY:Barley Republic
DESCRIPTION:
URL:https://baddogmama.com/event/barley-republic-18/
LOCATION:Barley Republic\, 48 Spanish St\, Saint Augustine\, FL\, 32084\, United States
ATTACH;FMTTYPE=image/jpeg:https://baddogmama.com/wp-content/uploads/2023/05/SittingInstruemtns-1.jpg
END:VEVENT
BEGIN:VEVENT
DTSTART;TZID=America/New_York:20250208T190000
DTEND;TZID=America/New_York:20250208T220000
DTSTAMP:20260422T225747
CREATED:20250131T140543Z
LAST-MODIFIED:20250131T140543Z
UID:4803-1739041200-1739052000@baddogmama.com
SUMMARY:Pierre's Pub
DESCRIPTION:
URL:https://baddogmama.com/event/pierres-pub-3/
LOCATION:Pierre’s Pub\, Saint Augustin\, FL
ATTACH;FMTTYPE=image/jpeg:https://baddogmama.com/wp-content/uploads/2023/05/polaroid-1.jpg
END:VEVENT
BEGIN:VEVENT
DTSTART;TZID=America/New_York:20250207T190000
DTEND;TZID=America/New_York:20250207T220000
DTSTAMP:20260422T225747
CREATED:20250131T140441Z
LAST-MODIFIED:20250131T140441Z
UID:4801-1738954800-1738965600@baddogmama.com
SUMMARY:Casa de Vino 57
DESCRIPTION:
URL:https://baddogmama.com/event/casa-de-vino-57-17/
LOCATION:Casa de Vino 57\, 57 Treasury St\, Saint Augustine\, 32084\, United States
ATTACH;FMTTYPE=image/jpeg:https://baddogmama.com/wp-content/uploads/2023/05/IMG_5587.jpg
END:VEVENT
BEGIN:VEVENT
DTSTART;TZID=America/New_York:20250206T180000
DTEND;TZID=America/New_York:20250206T210000
DTSTAMP:20260422T225747
CREATED:20250131T140342Z
LAST-MODIFIED:20250131T140342Z
UID:4799-1738864800-1738875600@baddogmama.com
SUMMARY:Prohibition Kitchen
DESCRIPTION:
URL:https://baddogmama.com/event/prohibition-kitchen-23/
LOCATION:Prohibition Kitchen\, 119 St George St\, Saint Augustine\, FL\, 32084\, United States
END:VEVENT
BEGIN:VEVENT
DTSTART;TZID=America/New_York:20250202T193000
DTEND;TZID=America/New_York:20250202T193000
DTSTAMP:20260422T225747
CREATED:20250131T140021Z
LAST-MODIFIED:20250131T140113Z
UID:4794-1738524600-1738524600@baddogmama.com
SUMMARY:Sarbez w/ Chemtrails - Maddy Walsh & The Blind Spots
DESCRIPTION:
URL:https://baddogmama.com/event/sarbez-w-chemtrails-maddy-walsh-the-blind-spots/
LOCATION:Sarbez!\, 115 Anastasia Blvd\, Saint Augustine\, FL\, 32080\, United States
ATTACH;FMTTYPE=image/jpeg:https://baddogmama.com/wp-content/uploads/2025/01/475842067_18480603733030659_99189229909292587_n.jpg
END:VEVENT
BEGIN:VEVENT
DTSTART;TZID=America/New_York:20250202T140000
DTEND;TZID=America/New_York:20250202T170000
DTSTAMP:20260422T225747
CREATED:20250107T113710Z
LAST-MODIFIED:20250107T113710Z
UID:4790-1738504800-1738515600@baddogmama.com
SUMMARY:Old Coast Ales
DESCRIPTION:
URL:https://baddogmama.com/event/old-coast-ales-15/
LOCATION:Old Coast Ales\, 300 Anastasia Blvd\, Saint Augustine\, FL\, 32080\, United States
END:VEVENT
BEGIN:VEVENT
DTSTART;TZID=America/New_York:20250201T100000
DTEND;TZID=America/New_York:20250201T110000
DTSTAMP:20260422T225747
CREATED:20250131T140223Z
LAST-MODIFIED:20250131T140223Z
UID:4797-1738404000-1738407600@baddogmama.com
SUMMARY:Gamble Rogers Showcase
DESCRIPTION:
URL:https://baddogmama.com/event/gamble-rogers-showcase/
LOCATION:Hastings Main Street\, Main Street\, Hastings\, FL
END:VEVENT
BEGIN:VEVENT
DTSTART;TZID=America/New_York:20250129T190000
DTEND;TZID=America/New_York:20250129T220000
DTSTAMP:20260422T225747
CREATED:20250107T113603Z
LAST-MODIFIED:20250107T113603Z
UID:4788-1738177200-1738188000@baddogmama.com
SUMMARY:Pierre's Pub
DESCRIPTION:
URL:https://baddogmama.com/event/pierres-pub-2/
LOCATION:Pierre’s Pub\, Saint Augustin\, FL
END:VEVENT
BEGIN:VEVENT
DTSTART;TZID=America/New_York:20250125T193000
DTEND;TZID=America/New_York:20250125T213000
DTSTAMP:20260422T225747
CREATED:20250107T113426Z
LAST-MODIFIED:20250107T113426Z
UID:4783-1737833400-1737840600@baddogmama.com
SUMMARY:Lauren & Chelsea Perform Comedy at Cafe 11!
DESCRIPTION:Lauren Gilliam and Chelsea Saddler open for national touring comedian Mike Hanford at Cafe 11! \nTICKETS AVAILABLE: COMEDIAN MIKE HANFORD with special guest CHELSEA SADDLER | JAN 25\, 2025 | The Best Restaurant in Saint Augustine Beach
URL:https://baddogmama.com/event/lauren-chelsea-perform-comedy-at-cafe-11/
LOCATION:Cafe 11\, 501 A1a Beach Blvd\, Saint Augustine\, FL\, 32080\, United States
END:VEVENT
BEGIN:VEVENT
DTSTART;TZID=America/New_York:20250124T180000
DTEND;TZID=America/New_York:20250124T210000
DTSTAMP:20260422T225747
CREATED:20250107T113506Z
LAST-MODIFIED:20250107T113506Z
UID:4786-1737741600-1737752400@baddogmama.com
SUMMARY:Prohibition Kitchen
DESCRIPTION:
URL:https://baddogmama.com/event/prohibition-kitchen-22/
LOCATION:Prohibition Kitchen\, 119 St George St\, Saint Augustine\, FL\, 32084\, United States
END:VEVENT
BEGIN:VEVENT
DTSTART;TZID=America/New_York:20250123T190000
DTEND;TZID=America/New_York:20250123T210000
DTSTAMP:20260422T225747
CREATED:20250107T113108Z
LAST-MODIFIED:20250107T113816Z
UID:4781-1737658800-1737666000@baddogmama.com
SUMMARY:Chelsea Saddler's Album Pre-Release!
DESCRIPTION:This event is an exclusive performance of Chelsea’s forthcoming record\, The Adult Child. Attendees will hear the brand-new record is in entirety – LIVE! \nThis concert will be a special full-band performance with an opening set from special musical guest Colton McKenna. \nSome Kickstarter donors are eligible for free entry based on the reward chosen and amount donated. If you have not yet received your tickets as a donor\, please contact us directly at booking@chelseasaddler.com \n  \nTICKETS AVAILABLE AT: The Adult Child Pre-Release Show – Chelsea Saddler
URL:https://baddogmama.com/event/chelsea-saddlers-album-pre-release/
LOCATION:The Waterworks\, 184 San Marco Ave\, Saint Augustine\, FL\, 32084\, United States
ATTACH;FMTTYPE=image/jpeg:https://baddogmama.com/wp-content/uploads/2025/01/CSTheAdultChildPoster_NEW.jpeg
END:VEVENT
BEGIN:VEVENT
DTSTART;TZID=America/New_York:20250118T150000
DTEND;TZID=America/New_York:20250118T170000
DTSTAMP:20260422T225747
CREATED:20250107T112834Z
LAST-MODIFIED:20250107T112834Z
UID:4779-1737212400-1737219600@baddogmama.com
SUMMARY:Private Event
DESCRIPTION:
URL:https://baddogmama.com/event/private-event-10/
LOCATION:FL
END:VEVENT
BEGIN:VEVENT
DTSTART;TZID=America/New_York:20250117T210000
DTEND;TZID=America/New_York:20250117T235900
DTSTAMP:20260422T225747
CREATED:20250107T112721Z
LAST-MODIFIED:20250107T112721Z
UID:4777-1737147600-1737158340@baddogmama.com
SUMMARY:Barley Republic
DESCRIPTION:
URL:https://baddogmama.com/event/barley-republic-17/
LOCATION:Barley Republic\, 48 Spanish St\, Saint Augustine\, FL\, 32084\, United States
END:VEVENT
END:VCALENDAR