BEGIN:VCALENDAR
VERSION:2.0
PRODID:-//Bad Dog Mama - ECPv6.15.20//NONSGML v1.0//EN
CALSCALE:GREGORIAN
METHOD:PUBLISH
X-WR-CALNAME:Bad Dog Mama
X-ORIGINAL-URL:https://baddogmama.com
X-WR-CALDESC:Events for Bad Dog Mama
REFRESH-INTERVAL;VALUE=DURATION:PT1H
X-Robots-Tag:noindex
X-PUBLISHED-TTL:PT1H
BEGIN:VTIMEZONE
TZID:America/New_York
BEGIN:DAYLIGHT
TZOFFSETFROM:-0500
TZOFFSETTO:-0400
TZNAME:EDT
DTSTART:20230312T070000
END:DAYLIGHT
BEGIN:STANDARD
TZOFFSETFROM:-0400
TZOFFSETTO:-0500
TZNAME:EST
DTSTART:20231105T060000
END:STANDARD
BEGIN:DAYLIGHT
TZOFFSETFROM:-0500
TZOFFSETTO:-0400
TZNAME:EDT
DTSTART:20240310T070000
END:DAYLIGHT
BEGIN:STANDARD
TZOFFSETFROM:-0400
TZOFFSETTO:-0500
TZNAME:EST
DTSTART:20241103T060000
END:STANDARD
BEGIN:DAYLIGHT
TZOFFSETFROM:-0500
TZOFFSETTO:-0400
TZNAME:EDT
DTSTART:20250309T070000
END:DAYLIGHT
BEGIN:STANDARD
TZOFFSETFROM:-0400
TZOFFSETTO:-0500
TZNAME:EST
DTSTART:20251102T060000
END:STANDARD
BEGIN:DAYLIGHT
TZOFFSETFROM:-0500
TZOFFSETTO:-0400
TZNAME:EDT
DTSTART:20260308T070000
END:DAYLIGHT
BEGIN:STANDARD
TZOFFSETFROM:-0400
TZOFFSETTO:-0500
TZNAME:EST
DTSTART:20261101T060000
END:STANDARD
END:VTIMEZONE
BEGIN:VTIMEZONE
TZID:UTC
BEGIN:STANDARD
TZOFFSETFROM:+0000
TZOFFSETTO:+0000
TZNAME:UTC
DTSTART:20230101T000000
END:STANDARD
END:VTIMEZONE
BEGIN:VEVENT
DTSTART;TZID=America/New_York:20250202T193000
DTEND;TZID=America/New_York:20250202T193000
DTSTAMP:20260422T230021
CREATED:20250131T140021Z
LAST-MODIFIED:20250131T140113Z
UID:4794-1738524600-1738524600@baddogmama.com
SUMMARY:Sarbez w/ Chemtrails - Maddy Walsh & The Blind Spots
DESCRIPTION:
URL:https://baddogmama.com/event/sarbez-w-chemtrails-maddy-walsh-the-blind-spots/
LOCATION:Sarbez!\, 115 Anastasia Blvd\, Saint Augustine\, FL\, 32080\, United States
ATTACH;FMTTYPE=image/jpeg:https://baddogmama.com/wp-content/uploads/2025/01/475842067_18480603733030659_99189229909292587_n.jpg
END:VEVENT
BEGIN:VEVENT
DTSTART;TZID=America/New_York:20250202T140000
DTEND;TZID=America/New_York:20250202T170000
DTSTAMP:20260422T230021
CREATED:20250107T113710Z
LAST-MODIFIED:20250107T113710Z
UID:4790-1738504800-1738515600@baddogmama.com
SUMMARY:Old Coast Ales
DESCRIPTION:
URL:https://baddogmama.com/event/old-coast-ales-15/
LOCATION:Old Coast Ales\, 300 Anastasia Blvd\, Saint Augustine\, FL\, 32080\, United States
END:VEVENT
BEGIN:VEVENT
DTSTART;TZID=America/New_York:20250201T100000
DTEND;TZID=America/New_York:20250201T110000
DTSTAMP:20260422T230021
CREATED:20250131T140223Z
LAST-MODIFIED:20250131T140223Z
UID:4797-1738404000-1738407600@baddogmama.com
SUMMARY:Gamble Rogers Showcase
DESCRIPTION:
URL:https://baddogmama.com/event/gamble-rogers-showcase/
LOCATION:Hastings Main Street\, Main Street\, Hastings\, FL
END:VEVENT
BEGIN:VEVENT
DTSTART;TZID=America/New_York:20250129T190000
DTEND;TZID=America/New_York:20250129T220000
DTSTAMP:20260422T230021
CREATED:20250107T113603Z
LAST-MODIFIED:20250107T113603Z
UID:4788-1738177200-1738188000@baddogmama.com
SUMMARY:Pierre's Pub
DESCRIPTION:
URL:https://baddogmama.com/event/pierres-pub-2/
LOCATION:Pierre’s Pub\, Saint Augustin\, FL
END:VEVENT
BEGIN:VEVENT
DTSTART;TZID=America/New_York:20250125T193000
DTEND;TZID=America/New_York:20250125T213000
DTSTAMP:20260422T230021
CREATED:20250107T113426Z
LAST-MODIFIED:20250107T113426Z
UID:4783-1737833400-1737840600@baddogmama.com
SUMMARY:Lauren & Chelsea Perform Comedy at Cafe 11!
DESCRIPTION:Lauren Gilliam and Chelsea Saddler open for national touring comedian Mike Hanford at Cafe 11! \nTICKETS AVAILABLE: COMEDIAN MIKE HANFORD with special guest CHELSEA SADDLER | JAN 25\, 2025 | The Best Restaurant in Saint Augustine Beach
URL:https://baddogmama.com/event/lauren-chelsea-perform-comedy-at-cafe-11/
LOCATION:Cafe 11\, 501 A1a Beach Blvd\, Saint Augustine\, FL\, 32080\, United States
END:VEVENT
BEGIN:VEVENT
DTSTART;TZID=America/New_York:20250124T180000
DTEND;TZID=America/New_York:20250124T210000
DTSTAMP:20260422T230021
CREATED:20250107T113506Z
LAST-MODIFIED:20250107T113506Z
UID:4786-1737741600-1737752400@baddogmama.com
SUMMARY:Prohibition Kitchen
DESCRIPTION:
URL:https://baddogmama.com/event/prohibition-kitchen-22/
LOCATION:Prohibition Kitchen\, 119 St George St\, Saint Augustine\, FL\, 32084\, United States
END:VEVENT
BEGIN:VEVENT
DTSTART;TZID=America/New_York:20250123T190000
DTEND;TZID=America/New_York:20250123T210000
DTSTAMP:20260422T230021
CREATED:20250107T113108Z
LAST-MODIFIED:20250107T113816Z
UID:4781-1737658800-1737666000@baddogmama.com
SUMMARY:Chelsea Saddler's Album Pre-Release!
DESCRIPTION:This event is an exclusive performance of Chelsea’s forthcoming record\, The Adult Child. Attendees will hear the brand-new record is in entirety – LIVE! \nThis concert will be a special full-band performance with an opening set from special musical guest Colton McKenna. \nSome Kickstarter donors are eligible for free entry based on the reward chosen and amount donated. If you have not yet received your tickets as a donor\, please contact us directly at booking@chelseasaddler.com \n  \nTICKETS AVAILABLE AT: The Adult Child Pre-Release Show – Chelsea Saddler
URL:https://baddogmama.com/event/chelsea-saddlers-album-pre-release/
LOCATION:The Waterworks\, 184 San Marco Ave\, Saint Augustine\, FL\, 32084\, United States
ATTACH;FMTTYPE=image/jpeg:https://baddogmama.com/wp-content/uploads/2025/01/CSTheAdultChildPoster_NEW.jpeg
END:VEVENT
BEGIN:VEVENT
DTSTART;TZID=America/New_York:20250118T150000
DTEND;TZID=America/New_York:20250118T170000
DTSTAMP:20260422T230021
CREATED:20250107T112834Z
LAST-MODIFIED:20250107T112834Z
UID:4779-1737212400-1737219600@baddogmama.com
SUMMARY:Private Event
DESCRIPTION:
URL:https://baddogmama.com/event/private-event-10/
LOCATION:FL
END:VEVENT
BEGIN:VEVENT
DTSTART;TZID=America/New_York:20250117T210000
DTEND;TZID=America/New_York:20250117T235900
DTSTAMP:20260422T230021
CREATED:20250107T112721Z
LAST-MODIFIED:20250107T112721Z
UID:4777-1737147600-1737158340@baddogmama.com
SUMMARY:Barley Republic
DESCRIPTION:
URL:https://baddogmama.com/event/barley-republic-17/
LOCATION:Barley Republic\, 48 Spanish St\, Saint Augustine\, FL\, 32084\, United States
END:VEVENT
BEGIN:VEVENT
DTSTART;TZID=America/New_York:20250111T180000
DTEND;TZID=America/New_York:20250111T210000
DTSTAMP:20260422T230021
CREATED:20250107T112346Z
LAST-MODIFIED:20250107T112346Z
UID:4773-1736618400-1736629200@baddogmama.com
SUMMARY:Prohibition Kitchen
DESCRIPTION:
URL:https://baddogmama.com/event/prohibition-kitchen-21/
LOCATION:Prohibition Kitchen\, 119 St George St\, Saint Augustine\, FL\, 32084\, United States
END:VEVENT
BEGIN:VEVENT
DTSTART;TZID=America/New_York:20250111T150000
DTEND;TZID=America/New_York:20250111T160000
DTSTAMP:20260422T230021
CREATED:20250107T112306Z
LAST-MODIFIED:20250107T112306Z
UID:4771-1736607600-1736611200@baddogmama.com
SUMMARY:Sarbez 11th Anniversary!
DESCRIPTION:
URL:https://baddogmama.com/event/sarbez-11th-anniversary/
LOCATION:Sarbez!\, 115 Anastasia Blvd\, Saint Augustine\, FL\, 32080\, United States
END:VEVENT
BEGIN:VEVENT
DTSTART;TZID=America/New_York:20241230T190000
DTEND;TZID=America/New_York:20241230T220000
DTSTAMP:20260422T230021
CREATED:20241127T141217Z
LAST-MODIFIED:20241127T141217Z
UID:4768-1735585200-1735596000@baddogmama.com
SUMMARY:Colonial Oak Music Park
DESCRIPTION:
URL:https://baddogmama.com/event/colonial-oak-music-park-7/
LOCATION:Colonial Oak Music Park\, 33 St. George St.\, Saint Augustine\, FL\, 32084\, United States
ATTACH;FMTTYPE=image/jpeg:https://baddogmama.com/wp-content/uploads/2023/05/E5CD5493-F48B-4395-A408-F5185E422738.jpeg
END:VEVENT
BEGIN:VEVENT
DTSTART;TZID=America/New_York:20241220T180000
DTEND;TZID=America/New_York:20241220T210000
DTSTAMP:20260422T230021
CREATED:20241127T131029Z
LAST-MODIFIED:20241127T131029Z
UID:4765-1734717600-1734728400@baddogmama.com
SUMMARY:Sangrias Wine & Tapas Bar
DESCRIPTION:
URL:https://baddogmama.com/event/sangrias-wine-tapas-bar/
LOCATION:Sangrias Wine & Tapas Bar\, 35 Hypolita St Ste 201\, ST AUGUSTINE\, FL\, 32084\, United States
ATTACH;FMTTYPE=image/jpeg:https://baddogmama.com/wp-content/uploads/2023/05/polaroid-2.jpg
END:VEVENT
BEGIN:VEVENT
DTSTART;TZID=America/New_York:20241219T180000
DTEND;TZID=America/New_York:20241219T210000
DTSTAMP:20260422T230021
CREATED:20241127T130807Z
LAST-MODIFIED:20241127T130807Z
UID:4763-1734631200-1734642000@baddogmama.com
SUMMARY:Prohibition Kitchen
DESCRIPTION:
URL:https://baddogmama.com/event/prohibition-kitchen-20/
LOCATION:Prohibition Kitchen\, 119 St George St\, Saint Augustine\, FL\, 32084\, United States
END:VEVENT
BEGIN:VEVENT
DTSTART;TZID=America/New_York:20241214T180000
DTEND;TZID=America/New_York:20241214T210000
DTSTAMP:20260422T230021
CREATED:20241127T130611Z
LAST-MODIFIED:20241127T130611Z
UID:4760-1734199200-1734210000@baddogmama.com
SUMMARY:Prohibition Kitchen
DESCRIPTION:
URL:https://baddogmama.com/event/prohibition-kitchen-19/
LOCATION:Prohibition Kitchen\, 119 St George St\, Saint Augustine\, FL\, 32084\, United States
END:VEVENT
BEGIN:VEVENT
DTSTART;TZID=America/New_York:20241213T190000
DTEND;TZID=America/New_York:20241213T220000
DTSTAMP:20260422T230021
CREATED:20241127T130525Z
LAST-MODIFIED:20241127T130640Z
UID:4758-1734116400-1734127200@baddogmama.com
SUMMARY:Casa de Vino 57
DESCRIPTION:
URL:https://baddogmama.com/event/casa-de-vino-57-16/
LOCATION:Casa de Vino 57\, 57 Treasury St\, Saint Augustine\, 32084\, United States
ATTACH;FMTTYPE=image/jpeg:https://baddogmama.com/wp-content/uploads/2023/05/BDM5sq.jpg
END:VEVENT
BEGIN:VEVENT
DTSTART;TZID=America/New_York:20241207T200000
DTEND;TZID=America/New_York:20241207T230000
DTSTAMP:20260422T230021
CREATED:20241127T130400Z
LAST-MODIFIED:20241127T130400Z
UID:4756-1733601600-1733612400@baddogmama.com
SUMMARY:Dog Rose Brewing - FULL BAND!
DESCRIPTION:
URL:https://baddogmama.com/event/dog-rose-brewing-full-band/
LOCATION:Dogrose Brewing\, 77 Bridge St.\, Saint Augustine\, FL\, 32084\, United States
END:VEVENT
BEGIN:VEVENT
DTSTART;TZID=America/New_York:20241205T170000
DTEND;TZID=America/New_York:20241205T200000
DTSTAMP:20260422T230021
CREATED:20241127T130254Z
LAST-MODIFIED:20241127T130716Z
UID:4754-1733418000-1733428800@baddogmama.com
SUMMARY:Marina Munch
DESCRIPTION:
URL:https://baddogmama.com/event/marina-munch-6/
LOCATION:Marina Munch\, 509 S Ponce de Leon Blvd\, ST AUGUSTINE\, FL\, 32084\, United States
ATTACH;FMTTYPE=image/jpeg:https://baddogmama.com/wp-content/uploads/2023/05/IMG_5587.jpg
END:VEVENT
BEGIN:VEVENT
DTSTART;TZID=America/New_York:20241201T140000
DTEND;TZID=America/New_York:20241201T170000
DTSTAMP:20260422T230021
CREATED:20241127T130206Z
LAST-MODIFIED:20241127T130206Z
UID:4752-1733061600-1733072400@baddogmama.com
SUMMARY:Old Coast Ales
DESCRIPTION:
URL:https://baddogmama.com/event/old-coast-ales-14/
LOCATION:Old Coast Ales\, 300 Anastasia Blvd\, Saint Augustine\, FL\, 32080\, United States
ATTACH;FMTTYPE=image/png:https://baddogmama.com/wp-content/uploads/2023/09/BDM_favi.png
END:VEVENT
BEGIN:VEVENT
DTSTART;TZID=America/New_York:20241130T180000
DTEND;TZID=America/New_York:20241130T210000
DTSTAMP:20260422T230021
CREATED:20241022T131412Z
LAST-MODIFIED:20241022T131412Z
UID:4749-1732989600-1733000400@baddogmama.com
SUMMARY:Prohibition Kitchen
DESCRIPTION:
URL:https://baddogmama.com/event/prohibition-kitchen-18/
LOCATION:Prohibition Kitchen\, 119 St George St\, Saint Augustine\, FL\, 32084\, United States
END:VEVENT
BEGIN:VEVENT
DTSTART;TZID=America/New_York:20241123T180000
DTEND;TZID=America/New_York:20241123T210000
DTSTAMP:20260422T230021
CREATED:20241022T131311Z
LAST-MODIFIED:20241022T131311Z
UID:4747-1732384800-1732395600@baddogmama.com
SUMMARY:Prohibition Kitchen
DESCRIPTION:
URL:https://baddogmama.com/event/prohibition-kitchen-17/
LOCATION:Prohibition Kitchen\, 119 St George St\, Saint Augustine\, FL\, 32084\, United States
END:VEVENT
BEGIN:VEVENT
DTSTART;TZID=America/New_York:20241115T210000
DTEND;TZID=America/New_York:20241115T235900
DTSTAMP:20260422T230021
CREATED:20241022T131116Z
LAST-MODIFIED:20241022T131116Z
UID:4745-1731704400-1731715140@baddogmama.com
SUMMARY:Barley Republic
DESCRIPTION:
URL:https://baddogmama.com/event/barley-republic-16/
LOCATION:Barley Republic\, 48 Spanish St\, Saint Augustine\, FL\, 32084\, United States
END:VEVENT
BEGIN:VEVENT
DTSTART;TZID=America/New_York:20241109T190000
DTEND;TZID=America/New_York:20241109T220000
DTSTAMP:20260422T230021
CREATED:20241022T130932Z
LAST-MODIFIED:20241022T130932Z
UID:4743-1731178800-1731189600@baddogmama.com
SUMMARY:Casa de Vino 57
DESCRIPTION:
URL:https://baddogmama.com/event/casa-de-vino-57-15/
LOCATION:Casa de Vino 57\, 57 Treasury St\, Saint Augustine\, 32084\, United States
END:VEVENT
BEGIN:VEVENT
DTSTART;TZID=America/New_York:20241107T170000
DTEND;TZID=America/New_York:20241107T200000
DTSTAMP:20260422T230021
CREATED:20241022T130853Z
LAST-MODIFIED:20241022T130853Z
UID:4741-1730998800-1731009600@baddogmama.com
SUMMARY:Marina Munch
DESCRIPTION:
URL:https://baddogmama.com/event/marina-munch-5/
LOCATION:Marina Munch\, 509 S Ponce de Leon Blvd\, ST AUGUSTINE\, FL\, 32084\, United States
END:VEVENT
BEGIN:VEVENT
DTSTART;TZID=America/New_York:20241103T140000
DTEND;TZID=America/New_York:20241103T170000
DTSTAMP:20260422T230021
CREATED:20241022T125719Z
LAST-MODIFIED:20241022T125737Z
UID:4739-1730642400-1730653200@baddogmama.com
SUMMARY:Old Coast Ales
DESCRIPTION:
URL:https://baddogmama.com/event/old-coast-ales-13/
LOCATION:Old Coast Ales\, 300 Anastasia Blvd\, Saint Augustine\, FL\, 32080\, United States
END:VEVENT
BEGIN:VEVENT
DTSTART;TZID=America/New_York:20241101T190000
DTEND;TZID=America/New_York:20241101T220000
DTSTAMP:20260422T230021
CREATED:20241022T125518Z
LAST-MODIFIED:20241022T125757Z
UID:4734-1730487600-1730498400@baddogmama.com
SUMMARY:Colonial Oak Music Park
DESCRIPTION:
URL:https://baddogmama.com/event/colonial-oak-music-park-6/
LOCATION:Colonial Oak Music Park\, 33 St. George St.\, Saint Augustine\, FL\, 32084\, United States
END:VEVENT
BEGIN:VEVENT
DTSTART;TZID=UTC:20241027T190000
DTEND;TZID=UTC:20241027T210000
DTSTAMP:20260422T230021
CREATED:20240926T183507Z
LAST-MODIFIED:20240926T183507Z
UID:4722-1730055600-1730062800@baddogmama.com
SUMMARY:Stardust Video
DESCRIPTION:
URL:https://baddogmama.com/event/stardust-video/
LOCATION:Stardust Video\, 1842 E Winterpark Rd\, Orlando\, FL
ATTACH;FMTTYPE=image/jpeg:https://baddogmama.com/wp-content/uploads/2023/05/1D70CA70-CD95-44AC-9BF8-C94D0F5D9F1B.jpeg
END:VEVENT
BEGIN:VEVENT
DTSTART;TZID=America/New_York:20241026T180000
DTEND;TZID=America/New_York:20241026T210000
DTSTAMP:20260422T230021
CREATED:20240926T182716Z
LAST-MODIFIED:20240926T182716Z
UID:4720-1729965600-1729976400@baddogmama.com
SUMMARY:Prohibition Kitchen
DESCRIPTION:
URL:https://baddogmama.com/event/prohibition-kitchen-16/
LOCATION:Prohibition Kitchen\, 119 St George St\, Saint Augustine\, FL\, 32084\, United States
ATTACH;FMTTYPE=image/jpeg:https://baddogmama.com/wp-content/uploads/2023/05/SittingInstruemtns-1.jpg
END:VEVENT
BEGIN:VEVENT
DTSTART;TZID=America/New_York:20241024T180000
DTEND;TZID=America/New_York:20241024T210000
DTSTAMP:20260422T230021
CREATED:20240926T182626Z
LAST-MODIFIED:20240926T182626Z
UID:4718-1729792800-1729803600@baddogmama.com
SUMMARY:Prohibition Kitchen
DESCRIPTION:
URL:https://baddogmama.com/event/prohibition-kitchen-15/
LOCATION:Prohibition Kitchen\, 119 St George St\, Saint Augustine\, FL\, 32084\, United States
ATTACH;FMTTYPE=image/png:https://baddogmama.com/wp-content/uploads/2023/09/BDM_favi.png
END:VEVENT
BEGIN:VEVENT
DTSTART;TZID=America/New_York:20241019T180000
DTEND;TZID=America/New_York:20241019T210000
DTSTAMP:20260422T230021
CREATED:20240926T182457Z
LAST-MODIFIED:20240926T182457Z
UID:4716-1729360800-1729371600@baddogmama.com
SUMMARY:Prohibition Kitchen
DESCRIPTION:
URL:https://baddogmama.com/event/prohibition-kitchen-14/
LOCATION:Prohibition Kitchen\, 119 St George St\, Saint Augustine\, FL\, 32084\, United States
ATTACH;FMTTYPE=image/jpeg:https://baddogmama.com/wp-content/uploads/2023/05/IMG_5587.jpg
END:VEVENT
END:VCALENDAR