BEGIN:VCALENDAR
VERSION:2.0
PRODID:-//Bad Dog Mama - ECPv6.15.20//NONSGML v1.0//EN
CALSCALE:GREGORIAN
METHOD:PUBLISH
X-WR-CALNAME:Bad Dog Mama
X-ORIGINAL-URL:https://baddogmama.com
X-WR-CALDESC:Events for Bad Dog Mama
REFRESH-INTERVAL;VALUE=DURATION:PT1H
X-Robots-Tag:noindex
X-PUBLISHED-TTL:PT1H
BEGIN:VTIMEZONE
TZID:America/New_York
BEGIN:DAYLIGHT
TZOFFSETFROM:-0500
TZOFFSETTO:-0400
TZNAME:EDT
DTSTART:20240310T070000
END:DAYLIGHT
BEGIN:STANDARD
TZOFFSETFROM:-0400
TZOFFSETTO:-0500
TZNAME:EST
DTSTART:20241103T060000
END:STANDARD
BEGIN:DAYLIGHT
TZOFFSETFROM:-0500
TZOFFSETTO:-0400
TZNAME:EDT
DTSTART:20250309T070000
END:DAYLIGHT
BEGIN:STANDARD
TZOFFSETFROM:-0400
TZOFFSETTO:-0500
TZNAME:EST
DTSTART:20251102T060000
END:STANDARD
BEGIN:DAYLIGHT
TZOFFSETFROM:-0500
TZOFFSETTO:-0400
TZNAME:EDT
DTSTART:20260308T070000
END:DAYLIGHT
BEGIN:STANDARD
TZOFFSETFROM:-0400
TZOFFSETTO:-0500
TZNAME:EST
DTSTART:20261101T060000
END:STANDARD
END:VTIMEZONE
BEGIN:VEVENT
DTSTART;TZID=America/New_York:20250601T140000
DTEND;TZID=America/New_York:20250601T170000
DTSTAMP:20260422T225327
CREATED:20250525T133353Z
LAST-MODIFIED:20250525T133353Z
UID:5061-1748786400-1748797200@baddogmama.com
SUMMARY:Old Coast Ales
DESCRIPTION:
URL:https://baddogmama.com/event/old-coast-ales-19/
LOCATION:Old Coast Ales\, 300 Anastasia Blvd\, Saint Augustine\, FL\, 32080\, United States
END:VEVENT
BEGIN:VEVENT
DTSTART;TZID=America/New_York:20250603T190000
DTEND;TZID=America/New_York:20250603T220000
DTSTAMP:20260422T225327
CREATED:20250525T133434Z
LAST-MODIFIED:20250525T133434Z
UID:5063-1748977200-1748988000@baddogmama.com
SUMMARY:Pierre's Pub
DESCRIPTION:
URL:https://baddogmama.com/event/pierres-pub-9/
LOCATION:Pierre’s Pub\, Saint Augustin\, FL
END:VEVENT
BEGIN:VEVENT
DTSTART;TZID=America/New_York:20250606T190000
DTEND;TZID=America/New_York:20250606T220000
DTSTAMP:20260422T225327
CREATED:20250525T133514Z
LAST-MODIFIED:20250525T133514Z
UID:5065-1749236400-1749247200@baddogmama.com
SUMMARY:Colonial Oak Music Park
DESCRIPTION:
URL:https://baddogmama.com/event/colonial-oak-music-park-8/
LOCATION:Colonial Oak Music Park\, 33 St. George St.\, Saint Augustine\, FL\, 32084\, United States
END:VEVENT
BEGIN:VEVENT
DTSTART;TZID=America/New_York:20250612T180000
DTEND;TZID=America/New_York:20250612T210000
DTSTAMP:20260422T225327
CREATED:20250525T133753Z
LAST-MODIFIED:20250525T133753Z
UID:5067-1749751200-1749762000@baddogmama.com
SUMMARY:Prohibition Kitchen
DESCRIPTION:
URL:https://baddogmama.com/event/prohibition-kitchen-28/
LOCATION:Prohibition Kitchen\, 119 St George St\, Saint Augustine\, FL\, 32084\, United States
END:VEVENT
BEGIN:VEVENT
DTSTART;TZID=America/New_York:20250613T190000
DTEND;TZID=America/New_York:20250613T220000
DTSTAMP:20260422T225327
CREATED:20250525T133909Z
LAST-MODIFIED:20250525T133909Z
UID:5069-1749841200-1749852000@baddogmama.com
SUMMARY:Casa de Vino 57
DESCRIPTION:
URL:https://baddogmama.com/event/casa-de-vino-57-21/
LOCATION:Casa de Vino 57\, 57 Treasury St\, Saint Augustine\, 32084\, United States
END:VEVENT
BEGIN:VEVENT
DTSTART;TZID=America/New_York:20250615T190000
DTEND;TZID=America/New_York:20250615T220000
DTSTAMP:20260422T225327
CREATED:20250525T133954Z
LAST-MODIFIED:20250525T133954Z
UID:5071-1750014000-1750024800@baddogmama.com
SUMMARY:Pierre's Pub
DESCRIPTION:
URL:https://baddogmama.com/event/pierres-pub-10/
LOCATION:Pierre’s Pub\, Saint Augustin\, FL
END:VEVENT
BEGIN:VEVENT
DTSTART;TZID=America/New_York:20250620T210000
DTEND;TZID=America/New_York:20250620T235900
DTSTAMP:20260422T225327
CREATED:20250525T134052Z
LAST-MODIFIED:20250525T134052Z
UID:5073-1750453200-1750463940@baddogmama.com
SUMMARY:Barley Republic
DESCRIPTION:
URL:https://baddogmama.com/event/barley-republic-22/
LOCATION:Barley Republic\, 48 Spanish St\, Saint Augustine\, FL\, 32084\, United States
END:VEVENT
BEGIN:VEVENT
DTSTART;TZID=America/New_York:20250705T200000
DTEND;TZID=America/New_York:20250705T230000
DTSTAMP:20260422T225327
CREATED:20250525T134214Z
LAST-MODIFIED:20250525T134214Z
UID:5075-1751745600-1751756400@baddogmama.com
SUMMARY:Dog Rose Brewing
DESCRIPTION:
URL:https://baddogmama.com/event/dog-rose-brewing-3/
LOCATION:Dogrose Brewing\, 77 Bridge St.\, Saint Augustine\, FL\, 32084\, United States
END:VEVENT
BEGIN:VEVENT
DTSTART;TZID=America/New_York:20250706T140000
DTEND;TZID=America/New_York:20250706T170000
DTSTAMP:20260422T225327
CREATED:20250525T134254Z
LAST-MODIFIED:20250525T134254Z
UID:5077-1751810400-1751821200@baddogmama.com
SUMMARY:Old Coast Ales
DESCRIPTION:
URL:https://baddogmama.com/event/old-coast-ales-20/
LOCATION:Old Coast Ales\, 300 Anastasia Blvd\, Saint Augustine\, FL\, 32080\, United States
END:VEVENT
BEGIN:VEVENT
DTSTART;TZID=America/New_York:20250710T180000
DTEND;TZID=America/New_York:20250710T210000
DTSTAMP:20260422T225327
CREATED:20250525T134350Z
LAST-MODIFIED:20250525T134350Z
UID:5079-1752170400-1752181200@baddogmama.com
SUMMARY:Prohibition Kitchen
DESCRIPTION:
URL:https://baddogmama.com/event/prohibition-kitchen-29/
LOCATION:Prohibition Kitchen\, 119 St George St\, Saint Augustine\, FL\, 32084\, United States
END:VEVENT
BEGIN:VEVENT
DTSTART;TZID=America/New_York:20250711T190000
DTEND;TZID=America/New_York:20250711T220000
DTSTAMP:20260422T225327
CREATED:20250525T134437Z
LAST-MODIFIED:20250525T134437Z
UID:5081-1752260400-1752271200@baddogmama.com
SUMMARY:Casa de Vino 57
DESCRIPTION:
URL:https://baddogmama.com/event/casa-de-vino-57-22/
LOCATION:Casa de Vino 57\, 57 Treasury St\, Saint Augustine\, 32084\, United States
END:VEVENT
BEGIN:VEVENT
DTSTART;TZID=America/New_York:20250713T190000
DTEND;TZID=America/New_York:20250713T220000
DTSTAMP:20260422T225327
CREATED:20250525T134537Z
LAST-MODIFIED:20250525T134537Z
UID:5083-1752433200-1752444000@baddogmama.com
SUMMARY:Pierre's Pub
DESCRIPTION:
URL:https://baddogmama.com/event/pierres-pub-11/
LOCATION:Pierre’s Pub\, Saint Augustin\, FL
END:VEVENT
BEGIN:VEVENT
DTSTART;TZID=America/New_York:20250715T183000
DTEND;TZID=America/New_York:20250715T203000
DTSTAMP:20260422T225327
CREATED:20250701T145229Z
LAST-MODIFIED:20250701T145314Z
UID:5100-1752604200-1752611400@baddogmama.com
SUMMARY:SABRAGE Charter Boat!
DESCRIPTION:Hop aboard Sabrage St. Augustine for an unforgettable live music experience on the water! Join us for a high-energy sunset cruise featuring Bad Dog Mama\, a dynamic rock & soul duo turning heads across the Southeast. Bad Dog Mama delivers powerful vocals\, raw energy\, and a sound that blends blues\, rock\, and folk into a bold performance you won’t want to miss. Enjoy live music while cruising past historic landmarks and coastal views during golden hour. \nTuesday\, July 15th \n6:30 PM – 8:30 PM \n$55 per person (plus tax) \nIncludes your first drink on the house! \nTickets can be purchased at SabrageStAugustine.com \nSpecial Events & Concert Series | Sabrage St Augustine
URL:https://baddogmama.com/event/sabrage-charter-boat/
LOCATION:Sabrage Boat Tours\, 117 Dockside Drive\, Saint Augustine\, FL\, 32086
END:VEVENT
BEGIN:VEVENT
DTSTART;TZID=America/New_York:20250718T210000
DTEND;TZID=America/New_York:20250718T235900
DTSTAMP:20260422T225327
CREATED:20250525T134914Z
LAST-MODIFIED:20250525T134914Z
UID:5085-1752872400-1752883140@baddogmama.com
SUMMARY:Barley Republic
DESCRIPTION:
URL:https://baddogmama.com/event/barley-republic-23/
LOCATION:Barley Republic\, 48 Spanish St\, Saint Augustine\, FL\, 32084\, United States
END:VEVENT
BEGIN:VEVENT
DTSTART;TZID=America/New_York:20250719T180000
DTEND;TZID=America/New_York:20250719T210000
DTSTAMP:20260422T225327
CREATED:20250525T135002Z
LAST-MODIFIED:20250525T135002Z
UID:5087-1752948000-1752958800@baddogmama.com
SUMMARY:Prohibition Kitchen
DESCRIPTION:
URL:https://baddogmama.com/event/prohibition-kitchen-30/
LOCATION:Prohibition Kitchen\, 119 St George St\, Saint Augustine\, FL\, 32084\, United States
END:VEVENT
BEGIN:VEVENT
DTSTART;TZID=America/New_York:20250720T180000
DTEND;TZID=America/New_York:20250720T210000
DTSTAMP:20260422T225327
CREATED:20250525T135132Z
LAST-MODIFIED:20250525T135132Z
UID:5091-1753034400-1753045200@baddogmama.com
SUMMARY:Cheba Hut
DESCRIPTION:
URL:https://baddogmama.com/event/cheba-hut/
LOCATION:Cheba Hut\, 604 Anastasia Blvd\, Saint Augustine\, FL\, 32080
END:VEVENT
BEGIN:VEVENT
DTSTART;TZID=America/New_York:20250725T190000
DTEND;TZID=America/New_York:20250725T220000
DTSTAMP:20260422T225327
CREATED:20250525T135054Z
LAST-MODIFIED:20250525T135054Z
UID:5089-1753470000-1753480800@baddogmama.com
SUMMARY:Colonial Oak Music Park
DESCRIPTION:
URL:https://baddogmama.com/event/colonial-oak-music-park-9/
LOCATION:Colonial Oak Music Park\, 33 St. George St.\, Saint Augustine\, FL\, 32084\, United States
END:VEVENT
BEGIN:VEVENT
DTSTART;TZID=America/New_York:20250726T150000
DTEND;TZID=America/New_York:20250726T180000
DTSTAMP:20260422T225327
CREATED:20250525T135225Z
LAST-MODIFIED:20250525T135225Z
UID:5093-1753542000-1753552800@baddogmama.com
SUMMARY:Pierre's Pub
DESCRIPTION:
URL:https://baddogmama.com/event/pierres-pub-12/
LOCATION:Pierre’s Pub\, Saint Augustin\, FL
END:VEVENT
BEGIN:VEVENT
DTSTART;TZID=America/New_York:20250801T190000
DTEND;TZID=America/New_York:20250801T200000
DTSTAMP:20260422T225327
CREATED:20250731T152103Z
LAST-MODIFIED:20250731T152354Z
UID:5109-1754074800-1754078400@baddogmama.com
SUMMARY:Gainesville Free Friday Concert Series
DESCRIPTION:
URL:https://baddogmama.com/event/gainesville-free-friday-concert-series/
LOCATION:Bo Diddly Plaza
END:VEVENT
BEGIN:VEVENT
DTSTART;TZID=America/New_York:20250802T170000
DTEND;TZID=America/New_York:20250802T200000
DTSTAMP:20260422T225327
CREATED:20250731T152234Z
LAST-MODIFIED:20250731T152234Z
UID:5112-1754154000-1754164800@baddogmama.com
SUMMARY:Bikini Race on The Bayfront!
DESCRIPTION:
URL:https://baddogmama.com/event/bikini-race-on-the-bayfront/
LOCATION:Municipal Marina\, 111 Avenida Menendez\, Saint Augustine\, FL\, 32084
END:VEVENT
BEGIN:VEVENT
DTSTART;TZID=America/New_York:20250803T140000
DTEND;TZID=America/New_York:20250803T170000
DTSTAMP:20260422T225327
CREATED:20250731T152443Z
LAST-MODIFIED:20250731T152443Z
UID:5114-1754229600-1754240400@baddogmama.com
SUMMARY:Old Coast Ales
DESCRIPTION:
URL:https://baddogmama.com/event/old-coast-ales-21/
LOCATION:Old Coast Ales\, 300 Anastasia Blvd\, Saint Augustine\, FL\, 32080\, United States
END:VEVENT
BEGIN:VEVENT
DTSTART;TZID=America/New_York:20250814T180000
DTEND;TZID=America/New_York:20250814T200000
DTSTAMP:20260422T225327
CREATED:20250731T152715Z
LAST-MODIFIED:20250731T152715Z
UID:5116-1755194400-1755201600@baddogmama.com
SUMMARY:Concerts in the Plaza
DESCRIPTION:
URL:https://baddogmama.com/event/concerts-in-the-plaza/
LOCATION:Plaza de la Constitucion\, 1 Cathedral Pl\, St. Augustine\, FL\, 32084\, United States
END:VEVENT
BEGIN:VEVENT
DTSTART;TZID=America/New_York:20250815T210000
DTEND;TZID=America/New_York:20250815T235900
DTSTAMP:20260422T225327
CREATED:20250731T152836Z
LAST-MODIFIED:20250731T152836Z
UID:5119-1755291600-1755302340@baddogmama.com
SUMMARY:Barley Republic
DESCRIPTION:
URL:https://baddogmama.com/event/barley-republic-24/
LOCATION:Barley Republic\, 48 Spanish St\, Saint Augustine\, FL\, 32084\, United States
END:VEVENT
BEGIN:VEVENT
DTSTART;TZID=America/New_York:20250816T190000
DTEND;TZID=America/New_York:20250816T220000
DTSTAMP:20260422T225327
CREATED:20250731T152922Z
LAST-MODIFIED:20250731T152922Z
UID:5121-1755370800-1755381600@baddogmama.com
SUMMARY:Colonial Quarter
DESCRIPTION:
URL:https://baddogmama.com/event/colonial-quarter-2/
LOCATION:Colonial Oak Music Park\, 33 St. George St.\, Saint Augustine\, FL\, 32084\, United States
END:VEVENT
BEGIN:VEVENT
DTSTART;TZID=America/New_York:20250817T190000
DTEND;TZID=America/New_York:20250817T220000
DTSTAMP:20260422T225327
CREATED:20250814T151814Z
LAST-MODIFIED:20250814T151814Z
UID:5150-1755457200-1755468000@baddogmama.com
SUMMARY:Pierre's Pub
DESCRIPTION:
URL:https://baddogmama.com/event/pierres-pub-14/
LOCATION:Pierre’s Pub\, Saint Augustin\, FL
END:VEVENT
BEGIN:VEVENT
DTSTART;TZID=America/New_York:20250818T190000
DTEND;TZID=America/New_York:20250818T220000
DTSTAMP:20260422T225327
CREATED:20250814T151931Z
LAST-MODIFIED:20250814T151931Z
UID:5152-1755543600-1755554400@baddogmama.com
SUMMARY:Pierre's Pub
DESCRIPTION:
URL:https://baddogmama.com/event/pierres-pub-15/
LOCATION:Pierre’s Pub\, Saint Augustin\, FL
END:VEVENT
BEGIN:VEVENT
DTSTART;TZID=America/New_York:20250827T190000
DTEND;TZID=America/New_York:20250827T210000
DTSTAMP:20260422T225327
CREATED:20250731T153800Z
LAST-MODIFIED:20250731T153800Z
UID:5130-1756321200-1756328400@baddogmama.com
SUMMARY:Music by the Sea
DESCRIPTION:
URL:https://baddogmama.com/event/music-by-the-sea/
LOCATION:St. Augustine Beach Pier\, 350 Beach Blvd\, Saint Augustine\, FL\, 32080
END:VEVENT
BEGIN:VEVENT
DTSTART;TZID=America/New_York:20250828T180000
DTEND;TZID=America/New_York:20250828T210000
DTSTAMP:20260422T225327
CREATED:20250731T153904Z
LAST-MODIFIED:20250731T153904Z
UID:5133-1756404000-1756414800@baddogmama.com
SUMMARY:Prohibition Kitchen
DESCRIPTION:
URL:https://baddogmama.com/event/prohibition-kitchen-31/
LOCATION:Prohibition Kitchen\, 119 St George St\, Saint Augustine\, FL\, 32084\, United States
END:VEVENT
BEGIN:VEVENT
DTSTART;TZID=America/New_York:20250829T190000
DTEND;TZID=America/New_York:20250829T210000
DTSTAMP:20260422T225327
CREATED:20250731T153159Z
LAST-MODIFIED:20250731T153329Z
UID:5123-1756494000-1756501200@baddogmama.com
SUMMARY:Chelsea Saddler Album Release! TICKETED SHOW
DESCRIPTION:Chelsea Saddler releases her long-awaited album\, The Adult Child\, exploring her experiences of childhood\, addiction\, recovery\, parenting\, loss\, and love. Local songwriter Jim Johnston opens the show. \nTickets are available at ChelseaSaddler.com
URL:https://baddogmama.com/event/chelsea-saddler-album-release-ticketed-show/
LOCATION:The Waterworks\, 184 San Marco Ave\, Saint Augustine\, FL\, 32084\, United States
END:VEVENT
BEGIN:VEVENT
DTSTART;TZID=America/New_York:20250905T193000
DTEND;TZID=America/New_York:20250905T220000
DTSTAMP:20260422T225327
CREATED:20250826T115903Z
LAST-MODIFIED:20250826T115903Z
UID:5170-1757100600-1757109600@baddogmama.com
SUMMARY:Casa de Vino 57
DESCRIPTION:
URL:https://baddogmama.com/event/casa-de-vino-57-23/
LOCATION:Casa de Vino 57\, 57 Treasury St\, Saint Augustine\, 32084\, United States
END:VEVENT
END:VCALENDAR