BEGIN:VCALENDAR
VERSION:2.0
PRODID:-//Bad Dog Mama - ECPv6.15.20//NONSGML v1.0//EN
CALSCALE:GREGORIAN
METHOD:PUBLISH
X-WR-CALNAME:Bad Dog Mama
X-ORIGINAL-URL:https://baddogmama.com
X-WR-CALDESC:Events for Bad Dog Mama
REFRESH-INTERVAL;VALUE=DURATION:PT1H
X-Robots-Tag:noindex
X-PUBLISHED-TTL:PT1H
BEGIN:VTIMEZONE
TZID:America/New_York
BEGIN:DAYLIGHT
TZOFFSETFROM:-0500
TZOFFSETTO:-0400
TZNAME:EDT
DTSTART:20240310T070000
END:DAYLIGHT
BEGIN:STANDARD
TZOFFSETFROM:-0400
TZOFFSETTO:-0500
TZNAME:EST
DTSTART:20241103T060000
END:STANDARD
BEGIN:DAYLIGHT
TZOFFSETFROM:-0500
TZOFFSETTO:-0400
TZNAME:EDT
DTSTART:20250309T070000
END:DAYLIGHT
BEGIN:STANDARD
TZOFFSETFROM:-0400
TZOFFSETTO:-0500
TZNAME:EST
DTSTART:20251102T060000
END:STANDARD
BEGIN:DAYLIGHT
TZOFFSETFROM:-0500
TZOFFSETTO:-0400
TZNAME:EDT
DTSTART:20260308T070000
END:DAYLIGHT
BEGIN:STANDARD
TZOFFSETFROM:-0400
TZOFFSETTO:-0500
TZNAME:EST
DTSTART:20261101T060000
END:STANDARD
END:VTIMEZONE
BEGIN:VTIMEZONE
TZID:UTC
BEGIN:STANDARD
TZOFFSETFROM:+0000
TZOFFSETTO:+0000
TZNAME:UTC
DTSTART:20240101T000000
END:STANDARD
END:VTIMEZONE
BEGIN:VEVENT
DTSTART;TZID=America/New_York:20250817T190000
DTEND;TZID=America/New_York:20250817T220000
DTSTAMP:20260422T225509
CREATED:20250814T151814Z
LAST-MODIFIED:20250814T151814Z
UID:5150-1755457200-1755468000@baddogmama.com
SUMMARY:Pierre's Pub
DESCRIPTION:
URL:https://baddogmama.com/event/pierres-pub-14/
LOCATION:Pierre’s Pub\, Saint Augustin\, FL
END:VEVENT
BEGIN:VEVENT
DTSTART;TZID=America/New_York:20250818T190000
DTEND;TZID=America/New_York:20250818T220000
DTSTAMP:20260422T225509
CREATED:20250814T151931Z
LAST-MODIFIED:20250814T151931Z
UID:5152-1755543600-1755554400@baddogmama.com
SUMMARY:Pierre's Pub
DESCRIPTION:
URL:https://baddogmama.com/event/pierres-pub-15/
LOCATION:Pierre’s Pub\, Saint Augustin\, FL
END:VEVENT
BEGIN:VEVENT
DTSTART;TZID=America/New_York:20250827T190000
DTEND;TZID=America/New_York:20250827T210000
DTSTAMP:20260422T225509
CREATED:20250731T153800Z
LAST-MODIFIED:20250731T153800Z
UID:5130-1756321200-1756328400@baddogmama.com
SUMMARY:Music by the Sea
DESCRIPTION:
URL:https://baddogmama.com/event/music-by-the-sea/
LOCATION:St. Augustine Beach Pier\, 350 Beach Blvd\, Saint Augustine\, FL\, 32080
END:VEVENT
BEGIN:VEVENT
DTSTART;TZID=America/New_York:20250828T180000
DTEND;TZID=America/New_York:20250828T210000
DTSTAMP:20260422T225509
CREATED:20250731T153904Z
LAST-MODIFIED:20250731T153904Z
UID:5133-1756404000-1756414800@baddogmama.com
SUMMARY:Prohibition Kitchen
DESCRIPTION:
URL:https://baddogmama.com/event/prohibition-kitchen-31/
LOCATION:Prohibition Kitchen\, 119 St George St\, Saint Augustine\, FL\, 32084\, United States
END:VEVENT
BEGIN:VEVENT
DTSTART;TZID=America/New_York:20250829T190000
DTEND;TZID=America/New_York:20250829T210000
DTSTAMP:20260422T225509
CREATED:20250731T153159Z
LAST-MODIFIED:20250731T153329Z
UID:5123-1756494000-1756501200@baddogmama.com
SUMMARY:Chelsea Saddler Album Release! TICKETED SHOW
DESCRIPTION:Chelsea Saddler releases her long-awaited album\, The Adult Child\, exploring her experiences of childhood\, addiction\, recovery\, parenting\, loss\, and love. Local songwriter Jim Johnston opens the show. \nTickets are available at ChelseaSaddler.com
URL:https://baddogmama.com/event/chelsea-saddler-album-release-ticketed-show/
LOCATION:The Waterworks\, 184 San Marco Ave\, Saint Augustine\, FL\, 32084\, United States
END:VEVENT
BEGIN:VEVENT
DTSTART;TZID=America/New_York:20250905T193000
DTEND;TZID=America/New_York:20250905T220000
DTSTAMP:20260422T225509
CREATED:20250826T115903Z
LAST-MODIFIED:20250826T115903Z
UID:5170-1757100600-1757109600@baddogmama.com
SUMMARY:Casa de Vino 57
DESCRIPTION:
URL:https://baddogmama.com/event/casa-de-vino-57-23/
LOCATION:Casa de Vino 57\, 57 Treasury St\, Saint Augustine\, 32084\, United States
END:VEVENT
BEGIN:VEVENT
DTSTART;TZID=America/New_York:20250906T200000
DTEND;TZID=America/New_York:20250906T220000
DTSTAMP:20260422T225509
CREATED:20250826T120035Z
LAST-MODIFIED:20250826T120035Z
UID:5172-1757188800-1757196000@baddogmama.com
SUMMARY:Blue Jay Listening Room - Chelsea Saddler Album Release
DESCRIPTION:September 6 @ 8:00 pm – 10:00 pm\n\n\n\n904TIX | Chelsea Saddler : “The Adult Child” Album Release Show at Blue Jay Listening Room \n\n\nTickets increase by $10 at the door. \nDubbed “The second coming of Joni Mitchell\,” Chelsea Saddler has been hailed as the queen of women songwriters – past and present (Florida Times Union). Her lyrical content arises from a deep well of life experiences as a queer woman\, adventure\, and heartache. As Chelsea played a one hour set on NPR’s “Roots and Branches” in Tennessee\, she described her greatest influences as Lightning Hopkins\, Leonard Cohen\, and Madeline Adams. \nOriginally from Jacksonville\, FL\, Chelsea has been performing in the southeast for the past two decades with three original albums under her belt. She has opened for national touring artists Chris Pureka\, Melissa Ferrick\, Shawn Mullins\, Elephant Revival\, Mount Moriah\, David Onley\, Cliff Eberhardt\, and Susan Werner. \nWinner of the city of St. Augustine’s and The Gamble Rogers Folk Festival Songwriting Competitions\, Chelsea also placed first in Bokeh Bar’s Comedy Competition in 2017. \nShe has spent the majority of the past decade largely focusing her musical efforts on performing with Bad Dog Mama\, her collaborative project with Lauren Gilliam\, and writing new music.
URL:https://baddogmama.com/event/blue-jay-listening-room-chelsea-saddler-album-release/
LOCATION:Blue Jay Listening Room\, 2457 3rd St S.\, Jacksonville\, FL\, 32250\, United States
END:VEVENT
BEGIN:VEVENT
DTSTART;TZID=America/New_York:20250907T140000
DTEND;TZID=America/New_York:20250907T170000
DTSTAMP:20260422T225509
CREATED:20250826T120215Z
LAST-MODIFIED:20250826T120215Z
UID:5174-1757253600-1757264400@baddogmama.com
SUMMARY:Old Coast Ales
DESCRIPTION:
URL:https://baddogmama.com/event/old-coast-ales-22/
LOCATION:Old Coast Ales\, 300 Anastasia Blvd\, Saint Augustine\, FL\, 32080\, United States
END:VEVENT
BEGIN:VEVENT
DTSTART;TZID=America/New_York:20250911T180000
DTEND;TZID=America/New_York:20250911T210000
DTSTAMP:20260422T225509
CREATED:20250826T120319Z
LAST-MODIFIED:20250826T120319Z
UID:5176-1757613600-1757624400@baddogmama.com
SUMMARY:Prohibition Kitchen
DESCRIPTION:
URL:https://baddogmama.com/event/prohibition-kitchen-32/
LOCATION:Prohibition Kitchen\, 119 St George St\, Saint Augustine\, FL\, 32084\, United States
END:VEVENT
BEGIN:VEVENT
DTSTART;TZID=America/New_York:20250912T190000
DTEND;TZID=America/New_York:20250912T200000
DTSTAMP:20260422T225509
CREATED:20250909T121742Z
LAST-MODIFIED:20250909T121742Z
UID:5202-1757703600-1757707200@baddogmama.com
SUMMARY:Chelsea Saddler & Sue Tice - Sing Out Loud
DESCRIPTION:
URL:https://baddogmama.com/event/chelsea-saddler-sue-tice-sing-out-loud/
LOCATION:Bar Citra\, 3676 N Ponce de Leon Blvd\, Saint Augustine\, FL\, FL\, 32084\, United States
END:VEVENT
BEGIN:VEVENT
DTSTART;TZID=America/New_York:20250914T190000
DTEND;TZID=America/New_York:20250914T220000
DTSTAMP:20260422T225509
CREATED:20250826T120403Z
LAST-MODIFIED:20250826T120403Z
UID:5178-1757876400-1757887200@baddogmama.com
SUMMARY:Pierre's Pub
DESCRIPTION:
URL:https://baddogmama.com/event/pierres-pub-13/
LOCATION:Pierre’s Pub\, Saint Augustin\, FL
END:VEVENT
BEGIN:VEVENT
DTSTART;TZID=America/New_York:20250918T180000
DTEND;TZID=America/New_York:20250918T220000
DTSTAMP:20260422T225509
CREATED:20250826T132833Z
LAST-MODIFIED:20250826T132833Z
UID:5189-1758218400-1758232800@baddogmama.com
SUMMARY:Colonial Oak Sing Out Loud - PechaKucha
DESCRIPTION:Join Aslyn & The Naysayer\, Rambler Kane\, and Bad Dog Mama for any evening of music and PechaKucha! \nEach act will give a short presentation followed by a musical performance. \nPechaKucha is a storytelling presentation format where a presenter shows 20 slides for 20 seconds each\, totaling 6 minutes and 40 seconds. This format encourages concise and engaging presentations\, making it popular for sharing personal stories or professional work in a dynamic way. Unlike traditional PowerPoint presentations\, PechaKucha emphasizes brevity and visual storytelling\, which can inspire creativity and challenge presenters
URL:https://baddogmama.com/event/colonial-oak-sing-out-loud-pechakucha/
LOCATION:Colonial Oak Music Park\, 33 St. George St.\, Saint Augustine\, FL\, 32084\, United States
END:VEVENT
BEGIN:VEVENT
DTSTART;TZID=America/New_York:20250919T210000
DTEND;TZID=America/New_York:20250919T235900
DTSTAMP:20260422T225509
CREATED:20250826T121208Z
LAST-MODIFIED:20250826T121208Z
UID:5181-1758315600-1758326340@baddogmama.com
SUMMARY:Barley Republic
DESCRIPTION:
URL:https://baddogmama.com/event/barley-republic-25/
LOCATION:Barley Republic\, 48 Spanish St\, Saint Augustine\, FL\, 32084\, United States
END:VEVENT
BEGIN:VEVENT
DTSTART;TZID=America/New_York:20250920T180000
DTEND;TZID=America/New_York:20250920T210000
DTSTAMP:20260422T225509
CREATED:20250826T121308Z
LAST-MODIFIED:20250826T121308Z
UID:5183-1758391200-1758402000@baddogmama.com
SUMMARY:Prohibition Kitchen
DESCRIPTION:
URL:https://baddogmama.com/event/prohibition-kitchen-33/
LOCATION:Prohibition Kitchen\, 119 St George St\, Saint Augustine\, FL\, 32084\, United States
END:VEVENT
BEGIN:VEVENT
DTSTART;TZID=America/New_York:20250923T190000
DTEND;TZID=America/New_York:20250923T220000
DTSTAMP:20260422T225509
CREATED:20250826T121353Z
LAST-MODIFIED:20250826T121353Z
UID:5185-1758654000-1758664800@baddogmama.com
SUMMARY:Pierre's Pub
DESCRIPTION:
URL:https://baddogmama.com/event/pierres-pub-16/
LOCATION:Pierre’s Pub\, Saint Augustin\, FL
END:VEVENT
BEGIN:VEVENT
DTSTART;TZID=America/New_York:20250927T193000
DTEND;TZID=America/New_York:20250927T220000
DTSTAMP:20260422T225509
CREATED:20250826T121513Z
LAST-MODIFIED:20250826T122720Z
UID:5187-1759001400-1759010400@baddogmama.com
SUMMARY:Casa de Vino 57
DESCRIPTION:
URL:https://baddogmama.com/event/casa-de-vino-57-24/
LOCATION:Casa de Vino 57\, 57 Treasury St\, Saint Augustine\, 32084\, United States
END:VEVENT
BEGIN:VEVENT
DTSTART;TZID=America/New_York:20251001T180000
DTEND;TZID=America/New_York:20251001T220000
DTSTAMP:20260422T225509
CREATED:20250710T170051Z
LAST-MODIFIED:20250915T190320Z
UID:5105-1759341600-1759356000@baddogmama.com
SUMMARY:The Currys & Bad Dog Mama LIVE at Pierre's Pub - TICKETED EVENT
DESCRIPTION:
URL:https://baddogmama.com/event/the-currys-bad-dog-mama-live-at-pierres-pub/
LOCATION:Pierre’s Pub\, Saint Augustin\, FL
ATTACH;FMTTYPE=image/png:https://baddogmama.com/wp-content/uploads/2025/07/BDMCurrys.png
END:VEVENT
BEGIN:VEVENT
DTSTART;VALUE=DATE:20251004
DTEND;VALUE=DATE:20251005
DTSTAMP:20260422T225509
CREATED:20250924T152418Z
LAST-MODIFIED:20250924T152418Z
UID:5233-1759536000-1759622399@baddogmama.com
SUMMARY:Private Event
DESCRIPTION:
URL:https://baddogmama.com/event/private-event-11/
LOCATION:FL
END:VEVENT
BEGIN:VEVENT
DTSTART;TZID=America/New_York:20251005T140000
DTEND;TZID=America/New_York:20251005T170000
DTSTAMP:20260422T225509
CREATED:20250924T152506Z
LAST-MODIFIED:20250924T152506Z
UID:5235-1759672800-1759683600@baddogmama.com
SUMMARY:Old Coast Ales
DESCRIPTION:
URL:https://baddogmama.com/event/old-coast-ales-23/
LOCATION:Old Coast Ales\, 300 Anastasia Blvd\, Saint Augustine\, FL\, 32080\, United States
END:VEVENT
BEGIN:VEVENT
DTSTART;TZID=America/New_York:20251009T190000
DTEND;TZID=America/New_York:20251009T213000
DTSTAMP:20260422T225509
CREATED:20250924T152726Z
LAST-MODIFIED:20250924T152726Z
UID:5237-1760036400-1760045400@baddogmama.com
SUMMARY:John Prine Birthday Tribute Show
DESCRIPTION:
URL:https://baddogmama.com/event/john-prine-birthday-tribute-show/
LOCATION:Mudville Music Room\, 3105 Beach Blvd\, Jacksonville\, FL\, 32207\, United States
END:VEVENT
BEGIN:VEVENT
DTSTART;TZID=America/New_York:20251011T180000
DTEND;TZID=America/New_York:20251011T210000
DTSTAMP:20260422T225509
CREATED:20250924T152820Z
LAST-MODIFIED:20250924T152820Z
UID:5239-1760205600-1760216400@baddogmama.com
SUMMARY:Prohibition Kitchen
DESCRIPTION:
URL:https://baddogmama.com/event/prohibition-kitchen-34/
LOCATION:Prohibition Kitchen\, 119 St George St\, Saint Augustine\, FL\, 32084\, United States
END:VEVENT
BEGIN:VEVENT
DTSTART;TZID=America/New_York:20251014T183000
DTEND;TZID=America/New_York:20251014T203000
DTSTAMP:20260422T225509
CREATED:20250924T153240Z
LAST-MODIFIED:20250924T153240Z
UID:5241-1760466600-1760473800@baddogmama.com
SUMMARY:Ponte Vedra Library Dr. Gerson Yessin Music Series
DESCRIPTION:
URL:https://baddogmama.com/event/ponte-vedra-library-dr-gerson-yessin-music-series/
LOCATION:Ponte Vedra Beach Library\, 101 Library Boulevard\,\, Ponte Vedra Beach\, FL\, United States
END:VEVENT
BEGIN:VEVENT
DTSTART;TZID=America/New_York:20251021T190000
DTEND;TZID=America/New_York:20251021T220000
DTSTAMP:20260422T225509
CREATED:20250924T153342Z
LAST-MODIFIED:20250924T153342Z
UID:5244-1761073200-1761084000@baddogmama.com
SUMMARY:Pierre's Pub
DESCRIPTION:
URL:https://baddogmama.com/event/pierres-pub-17/
LOCATION:Pierre’s Pub\, Saint Augustin\, FL
END:VEVENT
BEGIN:VEVENT
DTSTART;TZID=America/New_York:20251023T180000
DTEND;TZID=America/New_York:20251023T210000
DTSTAMP:20260422T225509
CREATED:20250924T153508Z
LAST-MODIFIED:20250924T153508Z
UID:5246-1761242400-1761253200@baddogmama.com
SUMMARY:Prohibition Kitchen
DESCRIPTION:
URL:https://baddogmama.com/event/prohibition-kitchen-35/
LOCATION:Prohibition Kitchen\, 119 St George St\, Saint Augustine\, FL\, 32084\, United States
END:VEVENT
BEGIN:VEVENT
DTSTART;TZID=America/New_York:20251025T110000
DTEND;TZID=America/New_York:20251025T120000
DTSTAMP:20260422T225509
CREATED:20250924T153952Z
LAST-MODIFIED:20250924T153952Z
UID:5248-1761390000-1761393600@baddogmama.com
SUMMARY:Hastings Fall Festival
DESCRIPTION:
URL:https://baddogmama.com/event/hastings-fall-festival/
LOCATION:Hastings Main Street\, Main Street\, Hastings\, FL
END:VEVENT
BEGIN:VEVENT
DTSTART;TZID=America/New_York:20251026T190000
DTEND;TZID=America/New_York:20251026T220000
DTSTAMP:20260422T225509
CREATED:20250924T154202Z
LAST-MODIFIED:20250924T193458Z
UID:5250-1761505200-1761516000@baddogmama.com
SUMMARY:Chelsea Saddler Comedy Set - Cafe 11 TICKETED SHOW
DESCRIPTION:Chelsea Saddler opens for Bo Johnson at Cafe 11 \nTICKETS AVAILABLE AT: \nCOMEDIAN BO JOHNSON | OCT 26\, 2025 | The Best Restaurant in Saint Augustine Beach
URL:https://baddogmama.com/event/chelsea-saddler-comedy-set-cafe-11-ticketed-show/
LOCATION:Cafe 11\, 501 A1a Beach Blvd\, Saint Augustine\, FL\, 32080\, United States
END:VEVENT
BEGIN:VEVENT
DTSTART;TZID=America/New_York:20251030T183000
DTEND;TZID=America/New_York:20251030T203000
DTSTAMP:20260422T225509
CREATED:20250924T154342Z
LAST-MODIFIED:20250924T154717Z
UID:5252-1761849000-1761856200@baddogmama.com
SUMMARY:Sabrage Boat Tours Halloween Eve Concert!
DESCRIPTION:Step aboard Sabrage for a one-of-a-kind Halloween Eve celebration! On October 30th from 6:30–8:30 PM\, enjoy live music from Bad Dog Mama\, breathtaking views of St. Augustine at sunset\, and your first drink on us with every ticket. Tickets are just $65\, and the night includes a spirited costume contest with prizes for 1st & 2nd place. Space is limited\, so secure your spot and join us for an unforgettable night on the water. \nTICKETS AVAILABLE AT: \nSpecial Events & Concert Series | Sabrage St Augustine
URL:https://baddogmama.com/event/sabrage-boat-tours-halloween-eve-concert/
LOCATION:Sabrage Boat Tours\, 117 Dockside Drive\, Saint Augustine\, FL\, 32086
END:VEVENT
BEGIN:VEVENT
DTSTART;TZID=America/New_York:20251102T140000
DTEND;TZID=America/New_York:20251102T170000
DTSTAMP:20260422T225509
CREATED:20251102T145423Z
LAST-MODIFIED:20251102T145423Z
UID:5324-1762092000-1762102800@baddogmama.com
SUMMARY:Old Coast Ales
DESCRIPTION:
URL:https://baddogmama.com/event/old-coast-ales-24/
LOCATION:Old Coast Ales\, 300 Anastasia Blvd\, Saint Augustine\, FL\, 32080\, United States
END:VEVENT
BEGIN:VEVENT
DTSTART;TZID=America/New_York:20251107T190000
DTEND;TZID=America/New_York:20251107T203000
DTSTAMP:20260422T225509
CREATED:20251102T145530Z
LAST-MODIFIED:20251102T145530Z
UID:5326-1762542000-1762547400@baddogmama.com
SUMMARY:Ragga Surf Cafe
DESCRIPTION:
URL:https://baddogmama.com/event/ragga-surf-cafe/
LOCATION:Ragga Surf Cafe\, 134 Riberia St.\, St. Augustine\, FL\, 32084\, United States
END:VEVENT
BEGIN:VEVENT
DTSTART;TZID=America/New_York:20251108T190000
DTEND;TZID=America/New_York:20251108T220000
DTSTAMP:20260422T225509
CREATED:20251102T145606Z
LAST-MODIFIED:20251102T145606Z
UID:5329-1762628400-1762639200@baddogmama.com
SUMMARY:Casa de Vino 57
DESCRIPTION:
URL:https://baddogmama.com/event/casa-de-vino-57-25/
LOCATION:Casa de Vino 57\, 57 Treasury St\, Saint Augustine\, 32084\, United States
END:VEVENT
END:VCALENDAR