BEGIN:VCALENDAR
VERSION:2.0
PRODID:-//Bad Dog Mama - ECPv6.15.20//NONSGML v1.0//EN
CALSCALE:GREGORIAN
METHOD:PUBLISH
X-WR-CALNAME:Bad Dog Mama
X-ORIGINAL-URL:https://baddogmama.com
X-WR-CALDESC:Events for Bad Dog Mama
REFRESH-INTERVAL;VALUE=DURATION:PT1H
X-Robots-Tag:noindex
X-PUBLISHED-TTL:PT1H
BEGIN:VTIMEZONE
TZID:America/New_York
BEGIN:DAYLIGHT
TZOFFSETFROM:-0500
TZOFFSETTO:-0400
TZNAME:EDT
DTSTART:20230312T070000
END:DAYLIGHT
BEGIN:STANDARD
TZOFFSETFROM:-0400
TZOFFSETTO:-0500
TZNAME:EST
DTSTART:20231105T060000
END:STANDARD
BEGIN:DAYLIGHT
TZOFFSETFROM:-0500
TZOFFSETTO:-0400
TZNAME:EDT
DTSTART:20240310T070000
END:DAYLIGHT
BEGIN:STANDARD
TZOFFSETFROM:-0400
TZOFFSETTO:-0500
TZNAME:EST
DTSTART:20241103T060000
END:STANDARD
BEGIN:DAYLIGHT
TZOFFSETFROM:-0500
TZOFFSETTO:-0400
TZNAME:EDT
DTSTART:20250309T070000
END:DAYLIGHT
BEGIN:STANDARD
TZOFFSETFROM:-0400
TZOFFSETTO:-0500
TZNAME:EST
DTSTART:20251102T060000
END:STANDARD
END:VTIMEZONE
BEGIN:VTIMEZONE
TZID:UTC
BEGIN:STANDARD
TZOFFSETFROM:+0000
TZOFFSETTO:+0000
TZNAME:UTC
DTSTART:20230101T000000
END:STANDARD
END:VTIMEZONE
BEGIN:VEVENT
DTSTART;TZID=America/New_York:20240930T190000
DTEND;TZID=America/New_York:20240930T210000
DTSTAMP:20260422T223503
CREATED:20240912T113840Z
LAST-MODIFIED:20240912T114205Z
UID:4688-1727722800-1727730000@baddogmama.com
SUMMARY:Apalachicola Yacht Club W/ The Currys
DESCRIPTION:
URL:https://baddogmama.com/event/apalachicola-yacht-club-w-the-currys/
LOCATION:Apalachicola Yacht Club\, 170 Water St.\, Apalachicola\, FL\, 32320
ATTACH;FMTTYPE=image/jpeg:https://baddogmama.com/wp-content/uploads/2023/05/BDM7sq.jpg
END:VEVENT
BEGIN:VEVENT
DTSTART;TZID=America/New_York:20241001T190000
DTEND;TZID=America/New_York:20241001T220000
DTSTAMP:20260422T223503
CREATED:20240912T114120Z
LAST-MODIFIED:20240912T114120Z
UID:4691-1727809200-1727820000@baddogmama.com
SUMMARY:Scallop Republic w/ The Currys
DESCRIPTION:
URL:https://baddogmama.com/event/scallop-republic-w-the-currys/
LOCATION:Scallop Republic\, 411 Cape San Blas Rd\, Port St. Joe\, FL
ATTACH;FMTTYPE=image/jpeg:https://baddogmama.com/wp-content/uploads/2023/05/BDM5sq.jpg
END:VEVENT
BEGIN:VEVENT
DTSTART;TZID=America/New_York:20241003T170000
DTEND;TZID=America/New_York:20241003T200000
DTSTAMP:20260422T223503
CREATED:20240912T114457Z
LAST-MODIFIED:20240912T114718Z
UID:4695-1727974800-1727985600@baddogmama.com
SUMMARY:Marina Munch
DESCRIPTION:
URL:https://baddogmama.com/event/marina-munch-4/
LOCATION:Marina Munch\, 509 S Ponce de Leon Blvd\, ST AUGUSTINE\, FL\, 32084\, United States
ATTACH;FMTTYPE=image/jpeg:https://baddogmama.com/wp-content/uploads/2023/05/1D70CA70-CD95-44AC-9BF8-C94D0F5D9F1B.jpeg
END:VEVENT
BEGIN:VEVENT
DTSTART;TZID=America/New_York:20241004T200000
DTEND;TZID=America/New_York:20241004T230000
DTSTAMP:20260422T223503
CREATED:20240912T114646Z
LAST-MODIFIED:20240912T114646Z
UID:4697-1728072000-1728082800@baddogmama.com
SUMMARY:Dogrose Brewing
DESCRIPTION:
URL:https://baddogmama.com/event/dogrose-brewing-4/
LOCATION:Dogrose Brewing\, 77 Bridge St.\, Saint Augustine\, FL\, 32084\, United States
END:VEVENT
BEGIN:VEVENT
DTSTART;TZID=America/New_York:20241005T200000
DTEND;TZID=America/New_York:20241005T230000
DTSTAMP:20260422T223503
CREATED:20240912T114826Z
LAST-MODIFIED:20240912T114826Z
UID:4699-1728158400-1728169200@baddogmama.com
SUMMARY:Pierre's Pub
DESCRIPTION:
URL:https://baddogmama.com/event/pierres-pub/
LOCATION:Pierre’s Pub\, Saint Augustin\, FL
END:VEVENT
BEGIN:VEVENT
DTSTART;TZID=America/New_York:20241006T140000
DTEND;TZID=America/New_York:20241006T170000
DTSTAMP:20260422T223503
CREATED:20240912T114952Z
LAST-MODIFIED:20240912T114952Z
UID:4702-1728223200-1728234000@baddogmama.com
SUMMARY:Old Coast Ales
DESCRIPTION:
URL:https://baddogmama.com/event/old-coast-ales-12/
LOCATION:Old Coast Ales\, 300 Anastasia Blvd\, Saint Augustine\, FL\, 32080\, United States
END:VEVENT
BEGIN:VEVENT
DTSTART;TZID=America/New_York:20241012T190000
DTEND;TZID=America/New_York:20241012T220000
DTSTAMP:20260422T223503
CREATED:20240912T115613Z
LAST-MODIFIED:20240912T115613Z
UID:4710-1728759600-1728770400@baddogmama.com
SUMMARY:Casa de Vino
DESCRIPTION:
URL:https://baddogmama.com/event/casa-de-vino-4/
LOCATION:Casa de Vino 57\, 57 Treasury St\, Saint Augustine\, 32084\, United States
END:VEVENT
BEGIN:VEVENT
DTSTART;TZID=UTC:20241013T140000
DTEND;TZID=UTC:20241013T170000
DTSTAMP:20260422T223503
CREATED:20240930T153755Z
LAST-MODIFIED:20240930T153755Z
UID:4730-1728828000-1728838800@baddogmama.com
SUMMARY:JB Birney Family Picnic
DESCRIPTION:
URL:https://baddogmama.com/event/jb-birney-family-picnic/
LOCATION:Herschel King Park\, 1000 Grady Prather Jr Cv\, Palm Coast\, FL\, 32137
END:VEVENT
BEGIN:VEVENT
DTSTART;TZID=America/New_York:20241018T180000
DTEND;TZID=America/New_York:20241018T193000
DTSTAMP:20260422T223503
CREATED:20240926T133839Z
LAST-MODIFIED:20240926T133839Z
UID:4713-1729274400-1729279800@baddogmama.com
SUMMARY:Aggregation Distilling Company
DESCRIPTION:Aggregation Distilling welcomes Chelsea Saddler with special guest Lauren Gilliam. \nRegister for tickets: Music: Chelsea Saddler | ADC Events (crfl.us) \nDubbed “The second coming of Joni Mitchell\,” Chelsea Saddler has been hailed as the queen of women songwriters – past and present (Florida Times Union). Her lyrical content arises from a deep well of life experiences as a queer woman\, adventure\, and heartache. As Chelsea played a one hour set on NPR’s “Roots and Branches” in Tennessee\, she described her greatest influences as Lightning Hopkins\, Leonard Cohen\, and Madeline Adams.  Originally from Jacksonville\, FL\, Chelsea has been performing in the southeast for the past two decades with three original albums under her belt. She has opened for national touring artists Chris Pureka\, Melissa Ferrick\, Shawn Mullins\, Elephant Revival\, Mount Moriah\, David Onley\, Cliff Eberhardt\, and Susan Werner.  Winner of the city of St. Augustine’s and The Gamble Rogers Folk Festival Songwriting Competitions\, Chelsea also placed first in Bokeh Bar’s Comedy Competition in 2017.  She has spent the majority of the past decade largely focusing her musical efforts on performing with Bad Dog Mama\, her collaborative project with Lauren Gilliam\, and writing new music. Chelsea’s long-awaited full-length original solo album The Offering is available now.
URL:https://baddogmama.com/event/aggregation-distilling-company/
LOCATION:Aggregation Distilling\, 255 SE US Hwy 19\, Crystal River\, FL\, 34429
ATTACH;FMTTYPE=image/jpeg:https://baddogmama.com/wp-content/uploads/2023/05/bdm-high-five.jpg
END:VEVENT
BEGIN:VEVENT
DTSTART;TZID=America/New_York:20241019T180000
DTEND;TZID=America/New_York:20241019T210000
DTSTAMP:20260422T223503
CREATED:20240926T182457Z
LAST-MODIFIED:20240926T182457Z
UID:4716-1729360800-1729371600@baddogmama.com
SUMMARY:Prohibition Kitchen
DESCRIPTION:
URL:https://baddogmama.com/event/prohibition-kitchen-14/
LOCATION:Prohibition Kitchen\, 119 St George St\, Saint Augustine\, FL\, 32084\, United States
ATTACH;FMTTYPE=image/jpeg:https://baddogmama.com/wp-content/uploads/2023/05/IMG_5587.jpg
END:VEVENT
BEGIN:VEVENT
DTSTART;TZID=America/New_York:20241024T180000
DTEND;TZID=America/New_York:20241024T210000
DTSTAMP:20260422T223503
CREATED:20240926T182626Z
LAST-MODIFIED:20240926T182626Z
UID:4718-1729792800-1729803600@baddogmama.com
SUMMARY:Prohibition Kitchen
DESCRIPTION:
URL:https://baddogmama.com/event/prohibition-kitchen-15/
LOCATION:Prohibition Kitchen\, 119 St George St\, Saint Augustine\, FL\, 32084\, United States
ATTACH;FMTTYPE=image/png:https://baddogmama.com/wp-content/uploads/2023/09/BDM_favi.png
END:VEVENT
BEGIN:VEVENT
DTSTART;TZID=America/New_York:20241026T180000
DTEND;TZID=America/New_York:20241026T210000
DTSTAMP:20260422T223503
CREATED:20240926T182716Z
LAST-MODIFIED:20240926T182716Z
UID:4720-1729965600-1729976400@baddogmama.com
SUMMARY:Prohibition Kitchen
DESCRIPTION:
URL:https://baddogmama.com/event/prohibition-kitchen-16/
LOCATION:Prohibition Kitchen\, 119 St George St\, Saint Augustine\, FL\, 32084\, United States
ATTACH;FMTTYPE=image/jpeg:https://baddogmama.com/wp-content/uploads/2023/05/SittingInstruemtns-1.jpg
END:VEVENT
BEGIN:VEVENT
DTSTART;TZID=UTC:20241027T190000
DTEND;TZID=UTC:20241027T210000
DTSTAMP:20260422T223503
CREATED:20240926T183507Z
LAST-MODIFIED:20240926T183507Z
UID:4722-1730055600-1730062800@baddogmama.com
SUMMARY:Stardust Video
DESCRIPTION:
URL:https://baddogmama.com/event/stardust-video/
LOCATION:Stardust Video\, 1842 E Winterpark Rd\, Orlando\, FL
ATTACH;FMTTYPE=image/jpeg:https://baddogmama.com/wp-content/uploads/2023/05/1D70CA70-CD95-44AC-9BF8-C94D0F5D9F1B.jpeg
END:VEVENT
END:VCALENDAR