BEGIN:VCALENDAR
VERSION:2.0
PRODID:-//Bad Dog Mama - ECPv6.15.20//NONSGML v1.0//EN
CALSCALE:GREGORIAN
METHOD:PUBLISH
X-ORIGINAL-URL:https://baddogmama.com
X-WR-CALDESC:Events for Bad Dog Mama
REFRESH-INTERVAL;VALUE=DURATION:PT1H
X-Robots-Tag:noindex
X-PUBLISHED-TTL:PT1H
BEGIN:VTIMEZONE
TZID:America/New_York
BEGIN:DAYLIGHT
TZOFFSETFROM:-0500
TZOFFSETTO:-0400
TZNAME:EDT
DTSTART:20240310T070000
END:DAYLIGHT
BEGIN:STANDARD
TZOFFSETFROM:-0400
TZOFFSETTO:-0500
TZNAME:EST
DTSTART:20241103T060000
END:STANDARD
BEGIN:DAYLIGHT
TZOFFSETFROM:-0500
TZOFFSETTO:-0400
TZNAME:EDT
DTSTART:20250309T070000
END:DAYLIGHT
BEGIN:STANDARD
TZOFFSETFROM:-0400
TZOFFSETTO:-0500
TZNAME:EST
DTSTART:20251102T060000
END:STANDARD
BEGIN:DAYLIGHT
TZOFFSETFROM:-0500
TZOFFSETTO:-0400
TZNAME:EDT
DTSTART:20260308T070000
END:DAYLIGHT
BEGIN:STANDARD
TZOFFSETFROM:-0400
TZOFFSETTO:-0500
TZNAME:EST
DTSTART:20261101T060000
END:STANDARD
END:VTIMEZONE
BEGIN:VEVENT
DTSTART;TZID=America/New_York:20250601T140000
DTEND;TZID=America/New_York:20250601T170000
DTSTAMP:20260422T074002
CREATED:20250525T133353Z
LAST-MODIFIED:20250525T133353Z
UID:5061-1748786400-1748797200@baddogmama.com
SUMMARY:Old Coast Ales
DESCRIPTION:
URL:https://baddogmama.com/event/old-coast-ales-19/
LOCATION:Old Coast Ales\, 300 Anastasia Blvd\, Saint Augustine\, FL\, 32080\, United States
END:VEVENT
BEGIN:VEVENT
DTSTART;TZID=America/New_York:20250603T190000
DTEND;TZID=America/New_York:20250603T220000
DTSTAMP:20260422T074002
CREATED:20250525T133434Z
LAST-MODIFIED:20250525T133434Z
UID:5063-1748977200-1748988000@baddogmama.com
SUMMARY:Pierre's Pub
DESCRIPTION:
URL:https://baddogmama.com/event/pierres-pub-9/
LOCATION:Pierre’s Pub\, Saint Augustin\, FL
END:VEVENT
BEGIN:VEVENT
DTSTART;TZID=America/New_York:20250606T190000
DTEND;TZID=America/New_York:20250606T220000
DTSTAMP:20260422T074002
CREATED:20250525T133514Z
LAST-MODIFIED:20250525T133514Z
UID:5065-1749236400-1749247200@baddogmama.com
SUMMARY:Colonial Oak Music Park
DESCRIPTION:
URL:https://baddogmama.com/event/colonial-oak-music-park-8/
LOCATION:Colonial Oak Music Park\, 33 St. George St.\, Saint Augustine\, FL\, 32084\, United States
END:VEVENT
BEGIN:VEVENT
DTSTART;TZID=America/New_York:20250612T180000
DTEND;TZID=America/New_York:20250612T210000
DTSTAMP:20260422T074002
CREATED:20250525T133753Z
LAST-MODIFIED:20250525T133753Z
UID:5067-1749751200-1749762000@baddogmama.com
SUMMARY:Prohibition Kitchen
DESCRIPTION:
URL:https://baddogmama.com/event/prohibition-kitchen-28/
LOCATION:Prohibition Kitchen\, 119 St George St\, Saint Augustine\, FL\, 32084\, United States
END:VEVENT
BEGIN:VEVENT
DTSTART;TZID=America/New_York:20250613T190000
DTEND;TZID=America/New_York:20250613T220000
DTSTAMP:20260422T074002
CREATED:20250525T133909Z
LAST-MODIFIED:20250525T133909Z
UID:5069-1749841200-1749852000@baddogmama.com
SUMMARY:Casa de Vino 57
DESCRIPTION:
URL:https://baddogmama.com/event/casa-de-vino-57-21/
LOCATION:Casa de Vino 57\, 57 Treasury St\, Saint Augustine\, 32084\, United States
END:VEVENT
BEGIN:VEVENT
DTSTART;TZID=America/New_York:20250615T190000
DTEND;TZID=America/New_York:20250615T220000
DTSTAMP:20260422T074002
CREATED:20250525T133954Z
LAST-MODIFIED:20250525T133954Z
UID:5071-1750014000-1750024800@baddogmama.com
SUMMARY:Pierre's Pub
DESCRIPTION:
URL:https://baddogmama.com/event/pierres-pub-10/
LOCATION:Pierre’s Pub\, Saint Augustin\, FL
END:VEVENT
BEGIN:VEVENT
DTSTART;TZID=America/New_York:20250620T210000
DTEND;TZID=America/New_York:20250620T235900
DTSTAMP:20260422T074002
CREATED:20250525T134052Z
LAST-MODIFIED:20250525T134052Z
UID:5073-1750453200-1750463940@baddogmama.com
SUMMARY:Barley Republic
DESCRIPTION:
URL:https://baddogmama.com/event/barley-republic-22/
LOCATION:Barley Republic\, 48 Spanish St\, Saint Augustine\, FL\, 32084\, United States
END:VEVENT
END:VCALENDAR